BEGIN:VCALENDAR
VERSION:2.0
PRODID:-//New Life Bible Fellowship - ECPv6.15.20//NONSGML v1.0//EN
CALSCALE:GREGORIAN
METHOD:PUBLISH
X-WR-CALNAME:New Life Bible Fellowship
X-ORIGINAL-URL:https://newlifetucson.com
X-WR-CALDESC:Events for New Life Bible Fellowship
REFRESH-INTERVAL;VALUE=DURATION:PT1H
X-Robots-Tag:noindex
X-PUBLISHED-TTL:PT1H
BEGIN:VTIMEZONE
TZID:America/Phoenix
BEGIN:STANDARD
TZOFFSETFROM:-0700
TZOFFSETTO:-0700
TZNAME:MST
DTSTART:20250101T000000
END:STANDARD
END:VTIMEZONE
BEGIN:VEVENT
DTSTART;TZID=America/Phoenix:20260304T090000
DTEND;TZID=America/Phoenix:20260304T110000
DTSTAMP:20260423T125001
CREATED:20260122T000841Z
LAST-MODIFIED:20260122T000933Z
UID:10002490-1772614800-1772622000@newlifetucson.com
SUMMARY:Selah in the Morning
DESCRIPTION:Selah in the Morning is a New Life Bible Fellowship Women’s Connection Experience on Wednesday Morning. \nWe are a place where every woman\, regardless of age\, spiritual journey\, or church affiliation\, can come and find connection with God and each other. \nOur hope and prayer are that every woman who comes finds that they are seen\, known\, heard\, and deeply loved. \nThis Spring Semester\, our Morning Group will walk through a study by Jen Wilkin titled ABIDE: a study of 1\, 2\, & 3 John. \nHow can we hold onto assurance of our faith? How can we discern the truth from a lie? How can we know God loves us?In three short letters\, the apostle John reminds an early church facing division\, deception\, and doubt to hold fast to what they know and to live like they believe it. And he reminds us\, as well. In this 10-session Bible study on the letters of 1\, 2\, and 3\, John\, Jen Wilkin helps you see how two thousand years later\, his words call to Christians in similar challenges to recall a great salvation and to abide in the truth. \nRegistration costs cover the book ($35 + shipping)\, help with childcare for the semester (everyone contributes to this as a part of our community)\, and our supplies. New Life will order books for everyone who registers before February 4. \nWe meet on Wednesday Mornings from 9am to 11m beginning February 18th. \nChildcare will be offered\, but you must note that on your registration. \nRegister HERE
URL:https://newlifetucson.com/events/selahintheam/2026-03-04/
LOCATION:New Life Bible Fellowship\, 4900 W Cortaro Farms Road\, Tucson\, AZ\, 85742\, United States
CATEGORIES:churchwide,community,women
ORGANIZER;CN="New Life Bible Fellowship":MAILTO:info@newlifetucson.com
END:VEVENT
BEGIN:VEVENT
DTSTART;TZID=America/Phoenix:20260304T180000
DTEND;TZID=America/Phoenix:20260304T203000
DTSTAMP:20260423T125001
CREATED:20260107T212047Z
LAST-MODIFIED:20260121T235851Z
UID:10002481-1772647200-1772656200@newlifetucson.com
SUMMARY:Selah in the P.M. Women's Study
DESCRIPTION:Selah is a New Life Bible Fellowship Women’s Connection Experience on Wednesday Mornings and Evenings. We are a place where every woman\, regardless of age\, spiritual journey\, or church affiliation\, can come and find a connection with God and each other. We hope and pray that every woman who comes finds that they are seen\, known\, heard\, and deeply loved. \nRegister for the EVENING Session – Spring 2026 Session begins January 28. Registration and more information can be found HERE
URL:https://newlifetucson.com/events/selah-in-the-p-m-womens-study/2026-03-04/
LOCATION:New Life Bible Fellowship\, 4900 W Cortaro Farms Road\, Tucson\, AZ\, 85742\, United States
CATEGORIES:community,women
ATTACH;FMTTYPE=:
ORGANIZER;CN="New Life Bible Fellowship":MAILTO:info@newlifetucson.com
END:VEVENT
END:VCALENDAR