BEGIN:VCALENDAR
VERSION:2.0
PRODID:-//New Life Bible Fellowship - ECPv6.15.20//NONSGML v1.0//EN
CALSCALE:GREGORIAN
METHOD:PUBLISH
X-WR-CALNAME:New Life Bible Fellowship
X-ORIGINAL-URL:https://newlifetucson.com
X-WR-CALDESC:Events for New Life Bible Fellowship
REFRESH-INTERVAL;VALUE=DURATION:PT1H
X-Robots-Tag:noindex
X-PUBLISHED-TTL:PT1H
BEGIN:VTIMEZONE
TZID:America/Phoenix
BEGIN:STANDARD
TZOFFSETFROM:-0700
TZOFFSETTO:-0700
TZNAME:MST
DTSTART:20250101T000000
END:STANDARD
END:VTIMEZONE
BEGIN:VEVENT
DTSTART;TZID=America/Phoenix:20260314T090000
DTEND;TZID=America/Phoenix:20260314T120000
DTSTAMP:20260423T162902
CREATED:20260301T143708Z
LAST-MODIFIED:20260301T143708Z
UID:10002576-1773478800-1773489600@newlifetucson.com
SUMMARY:Next Steps
DESCRIPTION:Looking to connect or learn more about New Life? NEXT STEPS is the place to begin your JOURNEY. Learn the importance of your STORY\, the joy when you CONNECT\, and the high call to SERVE. Completing NEXT STEPS is the first step on the path to becoming a partner and a sense of belonging at New Life. (at the Cortaro Campus) \nSIGN UP HERE
URL:https://newlifetucson.com/events/next-steps-7/
LOCATION:New Life Bible Fellowship\, 4900 W Cortaro Farms Road\, Tucson\, AZ\, 85742\, United States
CATEGORIES:churchwide,community
ATTACH;FMTTYPE=image/jpeg:https://newlifetucson.com/wp-content/uploads/2025/07/Next-Steps-SOCIALS-1.jpg
ORGANIZER;CN="New Life Bible Fellowship":MAILTO:info@newlifetucson.com
END:VEVENT
END:VCALENDAR