BEGIN:VCALENDAR
VERSION:2.0
PRODID:-//New Life Bible Fellowship - ECPv6.15.20//NONSGML v1.0//EN
CALSCALE:GREGORIAN
METHOD:PUBLISH
X-WR-CALNAME:New Life Bible Fellowship
X-ORIGINAL-URL:https://newlifetucson.com
X-WR-CALDESC:Events for New Life Bible Fellowship
REFRESH-INTERVAL;VALUE=DURATION:PT1H
X-Robots-Tag:noindex
X-PUBLISHED-TTL:PT1H
BEGIN:VTIMEZONE
TZID:America/Phoenix
BEGIN:STANDARD
TZOFFSETFROM:-0700
TZOFFSETTO:-0700
TZNAME:MST
DTSTART:20250101T000000
END:STANDARD
END:VTIMEZONE
BEGIN:VEVENT
DTSTART;TZID=America/Phoenix:20260328T110000
DTEND;TZID=America/Phoenix:20260328T130000
DTSTAMP:20260423T135719
CREATED:20260301T143359Z
LAST-MODIFIED:20260301T143359Z
UID:10002575-1774695600-1774702800@newlifetucson.com
SUMMARY:Eggstravaganza
DESCRIPTION:Join us on Saturday\, March 28th\, from 11–1 at New Life for a joyful\, family-friendly celebration of Jesus’ love! This is one of our favorite ways to welcome and bless our community. We’ll have a new and improved petting zoo\, food\, bounce houses\, huge egg hunts\, and so much more!
URL:https://newlifetucson.com/events/eggstravaganza26/
LOCATION:New Life Bible Fellowship\, 4900 W Cortaro Farms Road\, Tucson\, AZ\, 85742\, United States
CATEGORIES:churchwide,community
ATTACH;FMTTYPE=image/webp:https://newlifetucson.com/wp-content/uploads/2026/03/Eggsravaganza-Socials.webp
ORGANIZER;CN="New Life Bible Fellowship":MAILTO:info@newlifetucson.com
END:VEVENT
END:VCALENDAR