BEGIN:VCALENDAR
VERSION:2.0
PRODID:-//New Life Bible Fellowship - ECPv6.15.20//NONSGML v1.0//EN
CALSCALE:GREGORIAN
METHOD:PUBLISH
X-WR-CALNAME:New Life Bible Fellowship
X-ORIGINAL-URL:https://newlifetucson.com
X-WR-CALDESC:Events for New Life Bible Fellowship
REFRESH-INTERVAL;VALUE=DURATION:PT1H
X-Robots-Tag:noindex
X-PUBLISHED-TTL:PT1H
BEGIN:VTIMEZONE
TZID:America/Phoenix
BEGIN:STANDARD
TZOFFSETFROM:-0700
TZOFFSETTO:-0700
TZNAME:MST
DTSTART:20250101T000000
END:STANDARD
END:VTIMEZONE
BEGIN:VEVENT
DTSTART;TZID=America/Phoenix:20260405T083000
DTEND;TZID=America/Phoenix:20260405T103000
DTSTAMP:20260423T114248
CREATED:20260403T235308Z
LAST-MODIFIED:20260403T235308Z
UID:10002602-1775377800-1775385000@newlifetucson.com
SUMMARY:Easter at New Life
DESCRIPTION:Join us for Easter services at the Cortaro Campus (4900 W Cortaro Road) or the Gladden Campus (10300 Mike Etter Blvd. in Marana) at 8:30am or 10:30am. We can’t wait to see you and praise the Risen Savior.
URL:https://newlifetucson.com/events/easter-at-new-life/
LOCATION:New Life Bible Fellowship\, 4900 W Cortaro Farms Road\, Tucson\, AZ\, 85742\, United States
ATTACH;FMTTYPE=image/webp:https://newlifetucson.com/wp-content/uploads/2026/04/Easter26_pstcrd.webp
ORGANIZER;CN="New Life Bible Fellowship":MAILTO:info@newlifetucson.com
END:VEVENT
END:VCALENDAR