BEGIN:VCALENDAR
VERSION:2.0
PRODID:-//New Life Bible Fellowship - ECPv6.15.20//NONSGML v1.0//EN
CALSCALE:GREGORIAN
METHOD:PUBLISH
X-ORIGINAL-URL:https://newlifetucson.com
X-WR-CALDESC:Events for New Life Bible Fellowship
REFRESH-INTERVAL;VALUE=DURATION:PT1H
X-Robots-Tag:noindex
X-PUBLISHED-TTL:PT1H
BEGIN:VTIMEZONE
TZID:America/Phoenix
BEGIN:STANDARD
TZOFFSETFROM:-0700
TZOFFSETTO:-0700
TZNAME:MST
DTSTART:20250101T000000
END:STANDARD
END:VTIMEZONE
BEGIN:VEVENT
DTSTART;TZID=America/Phoenix:20260502T090000
DTEND;TZID=America/Phoenix:20260502T110000
DTSTAMP:20260423T085700
CREATED:20260407T171532Z
LAST-MODIFIED:20260407T171532Z
UID:10002603-1777712400-1777719600@newlifetucson.com
SUMMARY:Find Your Place in Foster Care
DESCRIPTION:Have you ever considered what it would look like to get involved in caring for the vulnerable children and families of Arizona? Whether you are interested in foster care\, adoption\, advocacy\, respite care\, mentoring or serving foster families on a Wrap Around Team at New Life\, we invite you to explore where your gifts and abilities may be used. Whatever season of life you are in – there is a role to play – please join us to truly help you Find Your Place in Foster Care! Register Here: https://arizona127.ccbchurch.com/goto/forms/728/responses/new
URL:https://newlifetucson.com/events/find-your-place-in-foster-care/
LOCATION:New Life Bible Fellowship\, 4900 W Cortaro Farms Road\, Tucson\, AZ\, 85742\, United States
CATEGORIES:churchwide,community
ATTACH;FMTTYPE=image/webp:https://newlifetucson.com/wp-content/uploads/2026/04/AZ127.webp
ORGANIZER;CN="New Life Bible Fellowship":MAILTO:info@newlifetucson.com
END:VEVENT
END:VCALENDAR