BEGIN:VCALENDAR
VERSION:2.0
PRODID:-//New Life Bible Fellowship - ECPv6.15.20//NONSGML v1.0//EN
CALSCALE:GREGORIAN
METHOD:PUBLISH
X-WR-CALNAME:New Life Bible Fellowship
X-ORIGINAL-URL:https://newlifetucson.com
X-WR-CALDESC:Events for New Life Bible Fellowship
REFRESH-INTERVAL;VALUE=DURATION:PT1H
X-Robots-Tag:noindex
X-PUBLISHED-TTL:PT1H
BEGIN:VTIMEZONE
TZID:America/Phoenix
BEGIN:STANDARD
TZOFFSETFROM:-0700
TZOFFSETTO:-0700
TZNAME:MST
DTSTART:20250101T000000
END:STANDARD
END:VTIMEZONE
BEGIN:VEVENT
DTSTART;TZID=America/Phoenix:20260305T090000
DTEND;TZID=America/Phoenix:20260305T120000
DTSTAMP:20260425T054124
CREATED:20260128T220144Z
LAST-MODIFIED:20260128T220144Z
UID:10002549-1772701200-1772712000@newlifetucson.com
SUMMARY:KSP (Knot-Sew-Perfect)
DESCRIPTION:Knot Sew Perfect invites you to serve with your hands and heart. Whether you’re experienced or brand new\, there’s a place for you in this warm and welcoming community. Help tie quilts for local ministries or jump into other meaningful projects. Join us on the 1st and 3rd Thursdays of each month\, 9am–12pm in Room 7. Please enter through the double doors on the EAST side of the New Life building. Got questions? Email Theresa Thomas at tmthomas2009@aol.com.
URL:https://newlifetucson.com/events/ksp1st/2026-03-05/
LOCATION:New Life Bible Fellowship\, 4900 W Cortaro Farms Road\, Tucson\, AZ\, 85742\, United States
CATEGORIES:adults,churchwide,community
ATTACH;FMTTYPE=image/jpeg:https://newlifetucson.com/wp-content/uploads/2025/01/KSP-SOCIALS.jpg
ORGANIZER;CN="New Life Bible Fellowship":MAILTO:info@newlifetucson.com
END:VEVENT
BEGIN:VEVENT
DTSTART;TZID=America/Phoenix:20260310T093000
DTEND;TZID=America/Phoenix:20260310T110000
DTSTAMP:20260425T054124
CREATED:20251231T021605Z
LAST-MODIFIED:20260117T055051Z
UID:10001913-1773135000-1773140400@newlifetucson.com
SUMMARY:Senior Adults Monthly Breakfast Gathering
DESCRIPTION:New Life’s Senior Adult Ministry offers regular opportunities for adults in this season of life to connect\, grow in faith\, and enjoy meaningful community together. We meet twice a month in the Worship Center for teaching\, worship\, and shared meals. \nOur 2nd Tuesday gathering is a relaxed morning of encouragement and connection\, including: \n\nA short devotional message\nBreakfast snacks and coffee\nA guest speaker\nWorship songs together\n\nYou’re welcome to bring a breakfast dish to share\, if you’d like.
URL:https://newlifetucson.com/events/seniorsmorningmar/
LOCATION:AZ
CATEGORIES:adults,seniors
ATTACH;FMTTYPE=image/jpeg:https://newlifetucson.com/wp-content/uploads/2023/10/SOCIAL-Seniors-Adults-2022.jpg
END:VEVENT
BEGIN:VEVENT
DTSTART;TZID=America/Phoenix:20260321T073000
DTEND;TZID=America/Phoenix:20260321T090000
DTSTAMP:20260425T054125
CREATED:20260117T055109Z
LAST-MODIFIED:20260122T003850Z
UID:10002509-1774078200-1774083600@newlifetucson.com
SUMMARY:Anchored Men's Breakfast
DESCRIPTION:If you’re a father\, a husband\, a brother\, or a son looking for a place of fellowship\, acceptance\, or encouragement\, then you are welcome here! Guys\, we need each other more than we realize. Let’s stop sticking to what’s comfortable\, familiar\, and quiet – instead\, let’s break bread together and explore life outside the lines! Life is better together. We meet every 3rd Saturday at 7:30 a.m. here at New Life.
URL:https://newlifetucson.com/events/anchored-mens-breakfast-2/2026-03-21/
LOCATION:AZ
CATEGORIES:adults,community,men
ATTACH;FMTTYPE=image/jpeg:https://newlifetucson.com/wp-content/uploads/2025/10/Anchored-Mens-Group-SOCIAL-copy.jpg
END:VEVENT
BEGIN:VEVENT
DTSTART;TZID=America/Phoenix:20260322T123000
DTEND;TZID=America/Phoenix:20260322T140000
DTSTAMP:20260425T054125
CREATED:20260226T200641Z
LAST-MODIFIED:20260309T221745Z
UID:10002574-1774182600-1774188000@newlifetucson.com
SUMMARY:Evangelism & Outreach Workshop
DESCRIPTION:Join us for a casual Evangelism & Outreach Workshop designed to help you\nGo\, Tell\, Cultivate\, and Transform right where God has placed you.\nPastor Luke van Schie and Mr. Gary Williams from Children’s Ministries will walk us through simple\, practical ways to share Jesus in everyday life. Mr. Gary is a retired pastor and whimsical illusionist who has used stories and magic tricks to open the door to evangelistic conversations. (you see him every Sunday at Children’s Check-In on the Cortaro Campus)\nSunday\, March 22\, from 12:30–2 PM\, after the 2nd service at Cortaro inthe Worship Center\nEveryone is welcome\, and Lunch is on us!\nLearn\, ask questions\, and grow your confidence as you reach out to our community.
URL:https://newlifetucson.com/events/evangelism322/
LOCATION:New Life Bible Fellowship\, 4900 W Cortaro Farms Road\, Tucson\, AZ\, 85742\, United States
CATEGORIES:adults,churchwide
ORGANIZER;CN="New Life Bible Fellowship":MAILTO:info@newlifetucson.com
END:VEVENT
END:VCALENDAR