BEGIN:VCALENDAR
VERSION:2.0
PRODID:-//New Life Bible Fellowship - ECPv6.15.20//NONSGML v1.0//EN
CALSCALE:GREGORIAN
METHOD:PUBLISH
X-ORIGINAL-URL:https://newlifetucson.com
X-WR-CALDESC:Events for New Life Bible Fellowship
REFRESH-INTERVAL;VALUE=DURATION:PT1H
X-Robots-Tag:noindex
X-PUBLISHED-TTL:PT1H
BEGIN:VTIMEZONE
TZID:America/Phoenix
BEGIN:STANDARD
TZOFFSETFROM:-0700
TZOFFSETTO:-0700
TZNAME:MST
DTSTART:20240101T000000
END:STANDARD
END:VTIMEZONE
BEGIN:VEVENT
DTSTART;TZID=America/Phoenix:20260422T180000
DTEND;TZID=America/Phoenix:20260422T200000
DTSTAMP:20260423T125918
CREATED:20250911T171249Z
LAST-MODIFIED:20250911T171249Z
UID:10001851-1776880800-1776888000@newlifetucson.com
SUMMARY:Girl's & Boy's Club Meetings
DESCRIPTION:
URL:https://newlifetucson.com/events/girls-boys-club-meetings/2026-04-22/
LOCATION:New Life Bible Fellowship\, 4900 W Cortaro Farms Road\, Tucson\, AZ\, 85742\, United States
CATEGORIES:children,churchwide,community
ATTACH;FMTTYPE=image/jpeg:https://newlifetucson.com/wp-content/uploads/2025/09/boys-and-girls.jpg
ORGANIZER;CN="New Life Bible Fellowship":MAILTO:info@newlifetucson.com
END:VEVENT
BEGIN:VEVENT
DTSTART;TZID=America/Phoenix:20260408T180000
DTEND;TZID=America/Phoenix:20260408T200000
DTSTAMP:20260423T125918
CREATED:20250911T171249Z
LAST-MODIFIED:20250911T171249Z
UID:10001850-1775671200-1775678400@newlifetucson.com
SUMMARY:Girl's & Boy's Club Meetings
DESCRIPTION:
URL:https://newlifetucson.com/events/girls-boys-club-meetings/2026-04-08/
LOCATION:New Life Bible Fellowship\, 4900 W Cortaro Farms Road\, Tucson\, AZ\, 85742\, United States
CATEGORIES:children,churchwide,community
ATTACH;FMTTYPE=image/jpeg:https://newlifetucson.com/wp-content/uploads/2025/09/boys-and-girls.jpg
ORGANIZER;CN="New Life Bible Fellowship":MAILTO:info@newlifetucson.com
END:VEVENT
BEGIN:VEVENT
DTSTART;TZID=America/Phoenix:20260325T180000
DTEND;TZID=America/Phoenix:20260325T200000
DTSTAMP:20260423T125918
CREATED:20250911T171249Z
LAST-MODIFIED:20250911T171249Z
UID:10001849-1774461600-1774468800@newlifetucson.com
SUMMARY:Girl's & Boy's Club Meetings
DESCRIPTION:
URL:https://newlifetucson.com/events/girls-boys-club-meetings/2026-03-25/
LOCATION:New Life Bible Fellowship\, 4900 W Cortaro Farms Road\, Tucson\, AZ\, 85742\, United States
CATEGORIES:children,churchwide,community
ATTACH;FMTTYPE=image/jpeg:https://newlifetucson.com/wp-content/uploads/2025/09/boys-and-girls.jpg
ORGANIZER;CN="New Life Bible Fellowship":MAILTO:info@newlifetucson.com
END:VEVENT
BEGIN:VEVENT
DTSTART;TZID=America/Phoenix:20260311T180000
DTEND;TZID=America/Phoenix:20260311T200000
DTSTAMP:20260423T125918
CREATED:20250911T171249Z
LAST-MODIFIED:20250911T171249Z
UID:10001848-1773252000-1773259200@newlifetucson.com
SUMMARY:Girl's & Boy's Club Meetings
DESCRIPTION:
URL:https://newlifetucson.com/events/girls-boys-club-meetings/2026-03-11/
LOCATION:New Life Bible Fellowship\, 4900 W Cortaro Farms Road\, Tucson\, AZ\, 85742\, United States
CATEGORIES:children,churchwide,community
ATTACH;FMTTYPE=image/jpeg:https://newlifetucson.com/wp-content/uploads/2025/09/boys-and-girls.jpg
ORGANIZER;CN="New Life Bible Fellowship":MAILTO:info@newlifetucson.com
END:VEVENT
BEGIN:VEVENT
DTSTART;TZID=America/Phoenix:20260215T083000
DTEND;TZID=America/Phoenix:20260215T100000
DTSTAMP:20260423T125918
CREATED:20260117T055106Z
LAST-MODIFIED:20260117T055106Z
UID:10002450-1771144200-1771149600@newlifetucson.com
SUMMARY:Child Dedications
DESCRIPTION:Child dedication is a commitment you make before God\, as parents\, to give thanks to God and raise your children according to God’s purpose. It is our heart to partner with you as your child grows and develops their own personal relationship with God. If you would like to dedicate your child(ren)\, you may sign up at www.newlifetucson.com/child-dedication. Child Dedications will be held on Feb 15 at both services\, with the mandatory class being held on Feb 1 at noon in the worship center.
URL:https://newlifetucson.com/events/child-dedications-6/
LOCATION:AZ
CATEGORIES:children,community,parents
END:VEVENT
BEGIN:VEVENT
DTSTART;TZID=America/Phoenix:20260211T180000
DTEND;TZID=America/Phoenix:20260211T200000
DTSTAMP:20260423T125918
CREATED:20250911T171249Z
LAST-MODIFIED:20250911T171249Z
UID:10001847-1770832800-1770840000@newlifetucson.com
SUMMARY:Girl's & Boy's Club Meetings
DESCRIPTION:
URL:https://newlifetucson.com/events/girls-boys-club-meetings/2026-02-11/
LOCATION:New Life Bible Fellowship\, 4900 W Cortaro Farms Road\, Tucson\, AZ\, 85742\, United States
CATEGORIES:children,churchwide,community
ATTACH;FMTTYPE=image/jpeg:https://newlifetucson.com/wp-content/uploads/2025/09/boys-and-girls.jpg
ORGANIZER;CN="New Life Bible Fellowship":MAILTO:info@newlifetucson.com
END:VEVENT
BEGIN:VEVENT
DTSTART;TZID=America/Phoenix:20260128T180000
DTEND;TZID=America/Phoenix:20260128T200000
DTSTAMP:20260423T125918
CREATED:20250911T171249Z
LAST-MODIFIED:20250911T171249Z
UID:10001846-1769623200-1769630400@newlifetucson.com
SUMMARY:Girl's & Boy's Club Meetings
DESCRIPTION:
URL:https://newlifetucson.com/events/girls-boys-club-meetings/2026-01-28/
LOCATION:New Life Bible Fellowship\, 4900 W Cortaro Farms Road\, Tucson\, AZ\, 85742\, United States
CATEGORIES:children,churchwide,community
ATTACH;FMTTYPE=image/jpeg:https://newlifetucson.com/wp-content/uploads/2025/09/boys-and-girls.jpg
ORGANIZER;CN="New Life Bible Fellowship":MAILTO:info@newlifetucson.com
END:VEVENT
BEGIN:VEVENT
DTSTART;TZID=America/Phoenix:20260114T180000
DTEND;TZID=America/Phoenix:20260114T200000
DTSTAMP:20260423T125918
CREATED:20250911T171249Z
LAST-MODIFIED:20250911T171249Z
UID:10001845-1768413600-1768420800@newlifetucson.com
SUMMARY:Girl's & Boy's Club Meetings
DESCRIPTION:
URL:https://newlifetucson.com/events/girls-boys-club-meetings/2026-01-14/
LOCATION:New Life Bible Fellowship\, 4900 W Cortaro Farms Road\, Tucson\, AZ\, 85742\, United States
CATEGORIES:children,churchwide,community
ATTACH;FMTTYPE=image/jpeg:https://newlifetucson.com/wp-content/uploads/2025/09/boys-and-girls.jpg
ORGANIZER;CN="New Life Bible Fellowship":MAILTO:info@newlifetucson.com
END:VEVENT
BEGIN:VEVENT
DTSTART;TZID=America/Phoenix:20260111T090000
DTEND;TZID=America/Phoenix:20260111T113000
DTSTAMP:20260423T125918
CREATED:20260117T055129Z
LAST-MODIFIED:20260117T055129Z
UID:10002459-1768122000-1768131000@newlifetucson.com
SUMMARY:Love Tucson Month Sign Up
DESCRIPTION:We love Tucson\, and we love blessing our city! Every February\, New Life has the incredible opportunity to serve our community through Love Tucson\, offering several opportunities to support our local partners. On Sunday\, February 8\, instead of gathering here\, we’ll be heading out together to serve at one of our school partners\, Coyote Trail Elementary. They’ve asked us to help build a running track again!! There will be plenty of ways for everyone to jump in—from helping with that and many lighter projects that aren’t as labor-intensive. So\, there’s something everyone can do! You can start signing up at the tables on the patio every Sunday morning in January\, starting on the 11th\, or online by visiting HERE. The tables will also have information about all of the ways New Life is serving our neighbors! Please be praying about how you can be part of Love Tucson as we continue to be contributors\, not consumers\, and serve our city generously!
URL:https://newlifetucson.com/events/love-tucson-month-sign-up/
LOCATION:AZ
CATEGORIES:adults,care,children,churchwide,community,men,parents,seniors,students,women
END:VEVENT
BEGIN:VEVENT
DTSTART;TZID=America/Phoenix:20251214T130000
DTEND;TZID=America/Phoenix:20251214T150000
DTSTAMP:20260423T125918
CREATED:20251125T221232Z
LAST-MODIFIED:20260117T055032Z
UID:10001906-1765717200-1765724400@newlifetucson.com
SUMMARY:All-Church Christmas Caroling
DESCRIPTION:Come spread some Christmas cheer as we carol together. We will meet at the Cortaro Campus church loop and caravan from there. Sunday\, December 14th\, from 1-3pm\, and visit a few different locations.
URL:https://newlifetucson.com/events/caroling25/
LOCATION:AZ
CATEGORIES:adults,children,churchwide,community
ATTACH;FMTTYPE=image/jpeg:https://newlifetucson.com/wp-content/uploads/2025/11/6.jpg
END:VEVENT
BEGIN:VEVENT
DTSTART;TZID=America/Phoenix:20251206T090000
DTEND;TZID=America/Phoenix:20251206T113000
DTSTAMP:20260423T125918
CREATED:20251106T181526Z
LAST-MODIFIED:20260117T055025Z
UID:10001872-1765011600-1765020600@newlifetucson.com
SUMMARY:Family Gingerbread Blast
DESCRIPTION:Start the holiday festivities off with a Fun morning! Bring your family and friends to join the fun in decorating Gingerbread Houses on Saturday\, December 6th. You may sign up for two different time options: 9:00 a.m. to 10:00 a.m. or 10:30 a.m. to 11:30 a.m. \nThe cost is $10 per gingerbread house\, and we provide all the supplies… you supply the creativity! \nCrafts and light refreshments will be available\, and each family will get an intentional Advent Calendar to help you make Jesus the center of your Christmas season. \nSign up today\, as spots are limited! \nREGISTER HERE
URL:https://newlifetucson.com/events/gingerbread25/
LOCATION:New Life Bible Fellowship\, 4900 W Cortaro Farms Road\, Tucson\, AZ\, 85742\, United States
CATEGORIES:children,churchwide,community
ATTACH;FMTTYPE=image/jpeg:https://newlifetucson.com/wp-content/uploads/2025/11/CM-Gingerbread-Calendar.jpg
END:VEVENT
BEGIN:VEVENT
DTSTART;TZID=America/Phoenix:20251203T180000
DTEND;TZID=America/Phoenix:20251203T200000
DTSTAMP:20260423T125918
CREATED:20250911T171249Z
LAST-MODIFIED:20250911T171249Z
UID:10001844-1764784800-1764792000@newlifetucson.com
SUMMARY:Girl's & Boy's Club Meetings
DESCRIPTION:
URL:https://newlifetucson.com/events/girls-boys-club-meetings/2025-12-03/
LOCATION:New Life Bible Fellowship\, 4900 W Cortaro Farms Road\, Tucson\, AZ\, 85742\, United States
CATEGORIES:children,churchwide,community
ATTACH;FMTTYPE=image/jpeg:https://newlifetucson.com/wp-content/uploads/2025/09/boys-and-girls.jpg
ORGANIZER;CN="New Life Bible Fellowship":MAILTO:info@newlifetucson.com
END:VEVENT
BEGIN:VEVENT
DTSTART;TZID=America/Phoenix:20251119T180000
DTEND;TZID=America/Phoenix:20251119T200000
DTSTAMP:20260423T125918
CREATED:20250911T171249Z
LAST-MODIFIED:20250911T171249Z
UID:10001843-1763575200-1763582400@newlifetucson.com
SUMMARY:Girl's & Boy's Club Meetings
DESCRIPTION:
URL:https://newlifetucson.com/events/girls-boys-club-meetings/2025-11-19/
LOCATION:New Life Bible Fellowship\, 4900 W Cortaro Farms Road\, Tucson\, AZ\, 85742\, United States
CATEGORIES:children,churchwide,community
ATTACH;FMTTYPE=image/jpeg:https://newlifetucson.com/wp-content/uploads/2025/09/boys-and-girls.jpg
ORGANIZER;CN="New Life Bible Fellowship":MAILTO:info@newlifetucson.com
END:VEVENT
BEGIN:VEVENT
DTSTART;TZID=America/Phoenix:20251022T180000
DTEND;TZID=America/Phoenix:20251022T200000
DTSTAMP:20260423T125918
CREATED:20250911T171249Z
LAST-MODIFIED:20250911T171249Z
UID:10001842-1761156000-1761163200@newlifetucson.com
SUMMARY:Girl's & Boy's Club Meetings
DESCRIPTION:
URL:https://newlifetucson.com/events/girls-boys-club-meetings/2025-10-22/
LOCATION:New Life Bible Fellowship\, 4900 W Cortaro Farms Road\, Tucson\, AZ\, 85742\, United States
CATEGORIES:children,churchwide,community
ATTACH;FMTTYPE=image/jpeg:https://newlifetucson.com/wp-content/uploads/2025/09/boys-and-girls.jpg
ORGANIZER;CN="New Life Bible Fellowship":MAILTO:info@newlifetucson.com
END:VEVENT
BEGIN:VEVENT
DTSTART;TZID=America/Phoenix:20251011T090000
DTEND;TZID=America/Phoenix:20251011T130000
DTSTAMP:20260423T125918
CREATED:20250821T221743Z
LAST-MODIFIED:20260117T054908Z
UID:10001764-1760173200-1760187600@newlifetucson.com
SUMMARY:Faith at Home: A Parenting Seminar
DESCRIPTION:Parenting is a high and holy calling. In a world of distractions\, pressure\, and cultural confusion\, how do we raise children to know and love Jesus? How do we lead with grace\, stay present\, and build a spiritual legacy that lasts? Join us for Faith at Home\, a half-day parenting seminar designed to equip you with practical tools\, biblical wisdom\, and fresh encouragement to disciple your kids intentionally\, right in the everyday rhythms of your home. October 11\, 2025\, New Life Bible Fellowship: Worship Center $25/person Light breakfast and full lunch provided. \n  \nREGISTER BY CLICKING HERE!
URL:https://newlifetucson.com/events/parenting25/
LOCATION:New Life Bible Fellowship\, 4900 W Cortaro Farms Road\, Tucson\, AZ\, 85742\, United States
CATEGORIES:adults,children,churchwide,community,parents
ATTACH;FMTTYPE=image/png:https://newlifetucson.com/wp-content/uploads/2025/08/IG2.png
END:VEVENT
BEGIN:VEVENT
DTSTART;TZID=America/Phoenix:20251009T180000
DTEND;TZID=America/Phoenix:20251009T193000
DTSTAMP:20260423T125918
CREATED:20251003T011845Z
LAST-MODIFIED:20260117T054943Z
UID:10001860-1760032800-1760038200@newlifetucson.com
SUMMARY:FACE (Foster Adoptive Care and Encouragement)
DESCRIPTION:FACE\, a Christ-centered small group created for foster and adoptive families\, begins again soon. This is a safe and encouraging space to come together and build friendships\, share the hard stuff\, and celebrate the wins. FACE gathers every SECOND Thursday from 6:00–7:30 pm beginning on September 11th\, and childcare is provided (with advance sign-up). Please come and be part of this supportive community\, whether in the thick of the journey or just beginning to explore. All are welcome! For details and location\, visit the table after either service on Sunday\, September 7th or email Cierra Baker at cierrarbaker@gmail.com.
URL:https://newlifetucson.com/events/face-foster-adoptive-care-and-encouragement/
LOCATION:AZ
CATEGORIES:children,churchwide,community,parents
ATTACH;FMTTYPE=image/jpeg:https://newlifetucson.com/wp-content/uploads/2025/08/FACE-Calendar-Square.jpg
END:VEVENT
BEGIN:VEVENT
DTSTART;TZID=America/Phoenix:20251008T180000
DTEND;TZID=America/Phoenix:20251008T200000
DTSTAMP:20260423T125918
CREATED:20250911T171249Z
LAST-MODIFIED:20250911T171249Z
UID:10001841-1759946400-1759953600@newlifetucson.com
SUMMARY:Girl's & Boy's Club Meetings
DESCRIPTION:
URL:https://newlifetucson.com/events/girls-boys-club-meetings/2025-10-08/
LOCATION:New Life Bible Fellowship\, 4900 W Cortaro Farms Road\, Tucson\, AZ\, 85742\, United States
CATEGORIES:children,churchwide,community
ATTACH;FMTTYPE=image/jpeg:https://newlifetucson.com/wp-content/uploads/2025/09/boys-and-girls.jpg
ORGANIZER;CN="New Life Bible Fellowship":MAILTO:info@newlifetucson.com
END:VEVENT
BEGIN:VEVENT
DTSTART;TZID=America/Phoenix:20251001T180000
DTEND;TZID=America/Phoenix:20251001T193000
DTSTAMP:20260423T125918
CREATED:20250903T192120Z
LAST-MODIFIED:20260117T054911Z
UID:10001773-1759341600-1759347000@newlifetucson.com
SUMMARY:Unwrapped
DESCRIPTION:Become a contributor at New Life by attending UNWRAPPED\, a workshop designed to help you uncover your God-given spiritual gifts\, abilities\, and life experiences. You’ll learn how God has uniquely shaped you to serve Him and others—and how you can make a difference both at our main campus and at the new church campus. As part of this journey\, you’ll receive training to begin serving at the current campus\, gaining experience and confidence. You’ll also have the opportunity to meet ministry leaders\, ask questions\, and explore where your gifts can be used to make the greatest impact\, to be equipped to step into meaningful service that fits how God created you. UNWRAPPED will take place on Wednesday\, October 1st\, from 6:00–7:30pm in Room 7. Childcare is available. Sign up by following the link below or by visiting the First Step table on Sunday morning. \n  \nSIGN UP HERE
URL:https://newlifetucson.com/events/unwrappedoct25/
LOCATION:New Life Bible Fellowship\, 4900 W Cortaro Farms Road\, Tucson\, AZ\, 85742\, United States
CATEGORIES:adults,care,children,churchwide,community,men,parents,seniors,students,women
ATTACH;FMTTYPE=image/jpeg:https://newlifetucson.com/wp-content/uploads/2025/09/UNWRAPPED-SOCIALS.jpg
END:VEVENT
BEGIN:VEVENT
DTSTART;TZID=America/Phoenix:20250924T180000
DTEND;TZID=America/Phoenix:20250924T200000
DTSTAMP:20260423T125918
CREATED:20250911T171249Z
LAST-MODIFIED:20250911T171249Z
UID:10001840-1758736800-1758744000@newlifetucson.com
SUMMARY:Girl's & Boy's Club Meetings
DESCRIPTION:
URL:https://newlifetucson.com/events/girls-boys-club-meetings/2025-09-24/
LOCATION:New Life Bible Fellowship\, 4900 W Cortaro Farms Road\, Tucson\, AZ\, 85742\, United States
CATEGORIES:children,churchwide,community
ATTACH;FMTTYPE=image/jpeg:https://newlifetucson.com/wp-content/uploads/2025/09/boys-and-girls.jpg
ORGANIZER;CN="New Life Bible Fellowship":MAILTO:info@newlifetucson.com
END:VEVENT
BEGIN:VEVENT
DTSTART;TZID=America/Phoenix:20250921T120000
DTEND;TZID=America/Phoenix:20250921T143000
DTSTAMP:20260423T125918
CREATED:20250819T184939Z
LAST-MODIFIED:20260117T054900Z
UID:10001762-1758456000-1758465000@newlifetucson.com
SUMMARY:Gladden Farms Launch Party!
DESCRIPTION:Interested in New Life’s Gladden Farms Campus? Want to get to know the Launch Team? Want to find out more? Join us Sunday\, September 21st for lunch\, fellowship\, and fun as we get together to celebrate what God is doing at New Life and share information about the upcoming Gladden Farms Campus! Childcare will be provided (you will need to note this on your R.S.V.P.)\, and we will meet in the Worship Center after the 2nd service. \n  \nLet us know you’re coming or that you need childcare by CLICKING HERE!!!
URL:https://newlifetucson.com/events/gladdenlaunch1/
LOCATION:New Life Bible Fellowship\, 4900 W Cortaro Farms Road\, Tucson\, AZ\, 85742\, United States
CATEGORIES:adults,care,children,churchwide,community,men,parents,seniors,students,women
ATTACH;FMTTYPE=image/jpeg:https://newlifetucson.com/wp-content/uploads/2025/08/Gladden-Farms-Launch-Party-SOCIAL.jpg
END:VEVENT
BEGIN:VEVENT
DTSTART;TZID=America/Phoenix:20250911T180000
DTEND;TZID=America/Phoenix:20250911T193000
DTSTAMP:20260423T125918
CREATED:20250822T190517Z
LAST-MODIFIED:20260117T054910Z
UID:10001765-1757613600-1757619000@newlifetucson.com
SUMMARY:F.A.C.E. (Foster Adoption Encouragement and Care)
DESCRIPTION:FACE\, a Christ-centered small group created for foster and adoptive families\, begins again soon. This is a safe and encouraging space to come together and build friendships\, share the hard stuff\, and celebrate the wins. FACE gathers every SECOND Thursday from 6:00–7:30 pm beginning on September 11th\, and childcare is provided (with advance sign-up). Please come and be part of this supportive community\, whether in the thick of the journey or just beginning to explore. All are welcome! For details and location\, visit the table after either service on Sunday\, September 7th or email Cierra Baker at cierrarbaker@gmail.com.
URL:https://newlifetucson.com/events/face25/
LOCATION:AZ
CATEGORIES:children,churchwide,community,parents
ATTACH;FMTTYPE=image/jpeg:https://newlifetucson.com/wp-content/uploads/2025/08/FACE-Calendar-Square.jpg
END:VEVENT
BEGIN:VEVENT
DTSTART;TZID=America/Phoenix:20250910T180000
DTEND;TZID=America/Phoenix:20250910T200000
DTSTAMP:20260423T125918
CREATED:20260117T054920Z
LAST-MODIFIED:20260117T054920Z
UID:10002444-1757527200-1757534400@newlifetucson.com
SUMMARY:Girl's & Boy's Club Meetings
DESCRIPTION:
URL:https://newlifetucson.com/events/girls-boys-club-meetings-6/
LOCATION:AZ
CATEGORIES:children,churchwide,community
END:VEVENT
BEGIN:VEVENT
DTSTART;TZID=America/Phoenix:20250910T180000
DTEND;TZID=America/Phoenix:20250910T200000
DTSTAMP:20260423T125918
CREATED:20250911T171249Z
LAST-MODIFIED:20250911T171249Z
UID:10001839-1757527200-1757534400@newlifetucson.com
SUMMARY:Girl's & Boy's Club Meetings
DESCRIPTION:
URL:https://newlifetucson.com/events/girls-boys-club-meetings/2025-09-10/
LOCATION:New Life Bible Fellowship\, 4900 W Cortaro Farms Road\, Tucson\, AZ\, 85742\, United States
CATEGORIES:children,churchwide,community
ATTACH;FMTTYPE=image/jpeg:https://newlifetucson.com/wp-content/uploads/2025/09/boys-and-girls.jpg
ORGANIZER;CN="New Life Bible Fellowship":MAILTO:info@newlifetucson.com
END:VEVENT
BEGIN:VEVENT
DTSTART;TZID=America/Phoenix:20250906T080000
DTEND;TZID=America/Phoenix:20250906T170000
DTSTAMP:20260423T125918
CREATED:20250814T174223Z
LAST-MODIFIED:20260117T054859Z
UID:10001761-1757145600-1757178000@newlifetucson.com
SUMMARY:First Aid CPR AED Training
DESCRIPTION:CPR AED and First Aid Training. This class is on Sept 6 in the morning or the afternoon from 8:00am – 12:00pm\, or 1pm to 5pm. This American Heart Association course teaches basic CPR\, AED\, and First Aid skills. Heartsaver First Aid CPR AED is a classroom\, video-based\, instructor-led course that teaches students critical skills needed to respond to and manage a first aid\, choking\, or sudden cardiac arrest emergency in the first few minutes until emergency medical services (EMS) arrive.  \n  \nCLICK HERE FOR MORE INFORMATION AND TO REGISTER FOR THE MORNING CLASS! \nCLICK HERE FOR MORE INFORMATION AND TO REGISTER FOR THE AFTERNOON CLASS!
URL:https://newlifetucson.com/events/firstaidfall25/
LOCATION:New Life Bible Fellowship\, 4900 W Cortaro Farms Road\, Tucson\, AZ\, 85742\, United States
CATEGORIES:adults,children,churchwide,community,students
ATTACH;FMTTYPE=image/jpeg:https://newlifetucson.com/wp-content/uploads/2025/08/CPR-AED-Socials-1.jpg
END:VEVENT
BEGIN:VEVENT
DTSTART;TZID=America/Phoenix:20250827T180000
DTEND;TZID=America/Phoenix:20250827T200000
DTSTAMP:20260423T125918
CREATED:20250801T013019Z
LAST-MODIFIED:20260117T054851Z
UID:10001746-1756317600-1756324800@newlifetucson.com
SUMMARY:New Life Girl's And Boy's Club Kick-Off
DESCRIPTION:Boys and Girls\, grades 3rd – 6th during the 25/26 school year\, are welcome to join the Boys and Girls Clubs at New Life where they will make friends\, learn about God\, life skills and more! Meetings will be every other Wednesday night from 6-8pm starting August 27th. $30 per child. Register through the links below: \nREGISTER HERE FOR GIRL’S CLUB \nREGISTER HERE FOR BOY’S CLUB
URL:https://newlifetucson.com/events/gbclubs25/
LOCATION:New Life Bible Fellowship\, 4900 W Cortaro Farms Road\, Tucson\, AZ\, 85742\, United States
CATEGORIES:children,churchwide,community
ATTACH;FMTTYPE=image/jpeg:https://newlifetucson.com/wp-content/uploads/2025/07/Untitled-600-x-400-px-1.jpg
END:VEVENT
BEGIN:VEVENT
DTSTART;TZID=America/Phoenix:20250819T090000
DTEND;TZID=America/Phoenix:20250819T110000
DTSTAMP:20260423T125918
CREATED:20250624T203347Z
LAST-MODIFIED:20260117T054825Z
UID:10001698-1755594000-1755601200@newlifetucson.com
SUMMARY:The Nest - A Ministry for Moms of Young Children
DESCRIPTION:Welcome to The Nest Fall 2025 Semester. Here\, you are not alone. Whether you’re carrying a diaper bag\, a prayer request\, or just the weight of a long day\, this is your space to land. We believe in a God who sees you\, cares for you\, and invites you to find your home near His heart. So come as you are: tired\, joyful\, uncertain\, all of it. We’re saving you a seat. \nMake plans to join us every 1st and 3rd Tuesday morning beginning August 19th. We will meet from 9am until 11:30am. Childcare will be offered (space is limited so sign up ASAP if you need it). Please fill out the registration form\, and look for more information soon! We will see you on August 19th! \nThe Nest  is a ministry for moms of young children (pregnancy through pre-school). The purpose of the this ministry is to provide a comfortable place for moms to come and experience authentic relationships and be encouraged by fellow moms. Our desire is for every mom to feel seen and known for who they are\, not for being “just a mom.” Our meetings include a hot breakfast\, speakers sharing about various topics that are relevant\, meaningful and fun\, an occasional craft/service project to bless those in need in our community\, and most importantly plenty of time to have adult conversation with fellow moms.\nREGISTER HERE
URL:https://newlifetucson.com/events/thenestfall25a/
LOCATION:New Life Bible Fellowship\, 4900 W Cortaro Farms Road\, Tucson\, AZ\, 85742\, United States
CATEGORIES:children,women
ATTACH;FMTTYPE=image/jpeg:https://newlifetucson.com/wp-content/uploads/2025/06/The-Nest-3-SOCIALS.jpg
END:VEVENT
BEGIN:VEVENT
DTSTART;TZID=America/Phoenix:20250716T090000
DTEND;TZID=America/Phoenix:20250716T120000
DTSTAMP:20260423T125918
CREATED:20250624T185600Z
LAST-MODIFIED:20260117T054824Z
UID:10001697-1752656400-1752667200@newlifetucson.com
SUMMARY:Water Day for 4th thru 6th
DESCRIPTION:Get ready for a FREE splash-tastic summer event! Invite a friend. Bring your swimsuit\, sunscreen\, and towel. Pizza will be served for elementary. If you have food allergies\, bring your own lunch. Register for your age group at www.newlifetucson.com/children. \nJULY 14\, 9-11\, PRE-K – KINDER (Younger siblings welcome if parent stays. Snack will be served.) \nJULY 15\, 9-NOON\, 1ST-3RD \nJULY 16\, 9-NOON\, 4TH-6TH \nSIGN UP BY CLICKING HERE
URL:https://newlifetucson.com/events/waterday4ththru6th/
LOCATION:New Life Bible Fellowship\, 4900 W Cortaro Farms Road\, Tucson\, AZ\, 85742\, United States
CATEGORIES:children,churchwide,community
ATTACH;FMTTYPE=image/jpeg:https://newlifetucson.com/wp-content/uploads/2025/06/Water-Days-Graphic.jpg
END:VEVENT
BEGIN:VEVENT
DTSTART;TZID=America/Phoenix:20250715T090000
DTEND;TZID=America/Phoenix:20250715T120000
DTSTAMP:20260423T125918
CREATED:20250624T184545Z
LAST-MODIFIED:20260117T054821Z
UID:10001696-1752570000-1752580800@newlifetucson.com
SUMMARY:Water Day for 1st thru 3rd Grade
DESCRIPTION:Get ready for a FREE splash-tastic summer event! Invite a friend. Bring your swimsuit\, sunscreen\, and towel. Pizza will be served for elementary. If you have food allergies\, bring your own lunch. Register for your age group at www.newlifetucson.com/children. \nJULY 14\, 9-11\, PRE-K – KINDER (Younger siblings welcome if parent stays. Snack will be served.) \nJULY 15\, 9-NOON\, 1ST-3RD \nJULY 16\, 9-NOON\, 4TH-6TH \nSIGN UP BY CLICKING HERE
URL:https://newlifetucson.com/events/waterday1stto3rd/
LOCATION:New Life Bible Fellowship\, 4900 W Cortaro Farms Road\, Tucson\, AZ\, 85742\, United States
CATEGORIES:children,churchwide,community
ATTACH;FMTTYPE=image/jpeg:https://newlifetucson.com/wp-content/uploads/2025/06/Water-Days-Graphic.jpg
END:VEVENT
BEGIN:VEVENT
DTSTART;TZID=America/Phoenix:20250714T090000
DTEND;TZID=America/Phoenix:20250714T110000
DTSTAMP:20260423T125918
CREATED:20250624T184359Z
LAST-MODIFIED:20260117T054817Z
UID:10001695-1752483600-1752490800@newlifetucson.com
SUMMARY:Water Day for Pre-K thru Kinder
DESCRIPTION:Get ready for a FREE splash-tastic summer event! Invite a friend. Bring your swimsuit\, sunscreen\, and towel. Pizza will be served for elementary. If you have food allergies\, bring your own lunch. Register for your age group at www.newlifetucson.com/children. \nJULY 14\, 9-11\, PRE-K – KINDER (Younger siblings welcome if parent stays. Snack will be served.) \nJULY 15\, 9-NOON\, 1ST-3RD \nJULY 16\, 9-NOON\, 4TH-6TH \nSIGN UP BY CLICKING HERE
URL:https://newlifetucson.com/events/prekwaterday25/
LOCATION:New Life Bible Fellowship\, 4900 W Cortaro Farms Road\, Tucson\, AZ\, 85742\, United States
CATEGORIES:children,churchwide,community
ATTACH;FMTTYPE=image/jpeg:https://newlifetucson.com/wp-content/uploads/2025/06/Water-Days-Graphic.jpg
END:VEVENT
BEGIN:VEVENT
DTSTART;TZID=America/Phoenix:20250713T160000
DTEND;TZID=America/Phoenix:20250713T180000
DTSTAMP:20260423T125918
CREATED:20250625T203207Z
LAST-MODIFIED:20260117T054827Z
UID:10001712-1752422400-1752429600@newlifetucson.com
SUMMARY:Eegees at the Park with Children's Ministry
DESCRIPTION:
URL:https://newlifetucson.com/events/eegees-at-the-park-with-childrens-ministry/
LOCATION:New Life Bible Fellowship\, 4900 W Cortaro Farms Road\, Tucson\, AZ\, 85742\, United States
CATEGORIES:children,churchwide,community
ATTACH;FMTTYPE=image/jpeg:https://newlifetucson.com/wp-content/uploads/2025/06/Eegees-at-the-Park-SOCIALS.jpg
END:VEVENT
END:VCALENDAR