BEGIN:VCALENDAR
VERSION:2.0
PRODID:-//New Life Bible Fellowship - ECPv6.15.20//NONSGML v1.0//EN
CALSCALE:GREGORIAN
METHOD:PUBLISH
X-WR-CALNAME:New Life Bible Fellowship
X-ORIGINAL-URL:https://newlifetucson.com
X-WR-CALDESC:Events for New Life Bible Fellowship
REFRESH-INTERVAL;VALUE=DURATION:PT1H
X-Robots-Tag:noindex
X-PUBLISHED-TTL:PT1H
BEGIN:VTIMEZONE
TZID:America/Phoenix
BEGIN:STANDARD
TZOFFSETFROM:-0700
TZOFFSETTO:-0700
TZNAME:MST
DTSTART:20250101T000000
END:STANDARD
END:VTIMEZONE
BEGIN:VEVENT
DTSTART;TZID=America/Phoenix:20260714T113000
DTEND;TZID=America/Phoenix:20260714T130000
DTSTAMP:20260424T050300
CREATED:20260107T205931Z
LAST-MODIFIED:20260122T000101Z
UID:10002487-1784028600-1784034000@newlifetucson.com
SUMMARY:Senior Adult Meeting
DESCRIPTION:New Life’s Senior Adult Ministry offers regular opportunities for adults in this season of life to connect\, grow in faith\, and enjoy meaningful community together. We meet twice a month in the Worship Center for teaching\, worship\, and shared meals. \n2nd Tuesday – Gathering at 11:30 am in the Worship Center \n 
URL:https://newlifetucson.com/events/senior-adult-meeting/
LOCATION:New Life Bible Fellowship\, 4900 W Cortaro Farms Road\, Tucson\, AZ\, 85742\, United States
CATEGORIES:community,seniors
ATTACH;FMTTYPE=image/jpeg:https://newlifetucson.com/wp-content/uploads/2023/10/SOCIAL-Seniors-Adults-2022.jpg
ORGANIZER;CN="New Life Bible Fellowship":MAILTO:info@newlifetucson.com
END:VEVENT
END:VCALENDAR