BEGIN:VCALENDAR
VERSION:2.0
PRODID:-//New Life Bible Fellowship - ECPv6.15.20//NONSGML v1.0//EN
CALSCALE:GREGORIAN
METHOD:PUBLISH
X-ORIGINAL-URL:https://newlifetucson.com
X-WR-CALDESC:Events for New Life Bible Fellowship
REFRESH-INTERVAL;VALUE=DURATION:PT1H
X-Robots-Tag:noindex
X-PUBLISHED-TTL:PT1H
BEGIN:VTIMEZONE
TZID:America/Phoenix
BEGIN:STANDARD
TZOFFSETFROM:-0700
TZOFFSETTO:-0700
TZNAME:MST
DTSTART:20240101T000000
END:STANDARD
END:VTIMEZONE
BEGIN:VEVENT
DTSTART;TZID=America/Phoenix:20251202T090000
DTEND;TZID=America/Phoenix:20251202T113000
DTSTAMP:20260424T051602
CREATED:20250928T160234Z
LAST-MODIFIED:20260117T054942Z
UID:10001858-1764666000-1764675000@newlifetucson.com
SUMMARY:The Nest @MomsMatter
DESCRIPTION:The Nest @MomsMatter is a ministry for moms of young children (pregnancy through pre-school). The purpose of this ministry is to provide a comfortable space for moms to experience authentic relationships and be encouraged by fellow moms. Our desire is for every mom to feel seen and known for who they are\, not for being “just a mom.” Our meetings include a hot breakfast\, speakers sharing about various topics that are relevant\, meaningful\, and fun\, an occasional craft or service project to bless those in need in our community\, and\, most importantly\, plenty of time to have adult conversations with fellow moms.
URL:https://newlifetucson.com/events/the-nest-momsmatter-4/
LOCATION:New Life Bible Fellowship\, 4900 W Cortaro Farms Road\, Tucson\, AZ\, 85742\, United States
CATEGORIES:parents,women
ATTACH;FMTTYPE=image/jpeg:https://newlifetucson.com/wp-content/uploads/2025/09/The-Nest-3-GENERAL-LOGO.jpg
END:VEVENT
END:VCALENDAR