BEGIN:VCALENDAR
VERSION:2.0
PRODID:-//New Life Bible Fellowship - ECPv6.15.20//NONSGML v1.0//EN
CALSCALE:GREGORIAN
METHOD:PUBLISH
X-ORIGINAL-URL:https://newlifetucson.com
X-WR-CALDESC:Events for New Life Bible Fellowship
REFRESH-INTERVAL;VALUE=DURATION:PT1H
X-Robots-Tag:noindex
X-PUBLISHED-TTL:PT1H
BEGIN:VTIMEZONE
TZID:America/Phoenix
BEGIN:STANDARD
TZOFFSETFROM:-0700
TZOFFSETTO:-0700
TZNAME:MST
DTSTART:20250101T000000
END:STANDARD
END:VTIMEZONE
BEGIN:VEVENT
DTSTART;TZID=America/Phoenix:20260428T113000
DTEND;TZID=America/Phoenix:20260428T130000
DTSTAMP:20260425T054734
CREATED:20260122T001639Z
LAST-MODIFIED:20260122T001639Z
UID:10002502-1777375800-1777381200@newlifetucson.com
SUMMARY:Senior Adults Afternoon Gathering
DESCRIPTION:Senior Adults get-together at New Life Bible Fellowship Church!  \n📅 Tuesday\, Date  \n🕤 11:30 AM  \n We’re excited to invite you to our Senior Adult Luncheon on the 4th Tuesday of the month. Come enjoy a time of food\, fellowship\, and encouragement as we continue this season together. Here’s what’s planned for our next gathering: • A devotional message to encourage your heart • A delicious complimentary lunch to enjoy with friends • A “Something to Think About” video to spark reflection • A celebration of this month’s birthdays and anniversaries • Closing with worship songs to lift our hearts in praise.
URL:https://newlifetucson.com/events/senioradultsafternoongathering/2026-04-28/
LOCATION:New Life Bible Fellowship\, 4900 W Cortaro Farms Road\, Tucson\, AZ\, 85742\, United States
CATEGORIES:churchwide,community,seniors
ATTACH;FMTTYPE=image/jpeg:https://newlifetucson.com/wp-content/uploads/2023/10/SOCIAL-Seniors-Adults-2022.jpg
ORGANIZER;CN="New Life Bible Fellowship":MAILTO:info@newlifetucson.com
END:VEVENT
BEGIN:VEVENT
DTSTART;TZID=America/Phoenix:20260507T100000
DTEND;TZID=America/Phoenix:20260508T120000
DTSTAMP:20260425T054734
CREATED:20260325T203558Z
LAST-MODIFIED:20260325T203558Z
UID:10002582-1778148000-1778241600@newlifetucson.com
SUMMARY:Senior Adults Game Day
DESCRIPTION:Senior Adult Game Time – 1st Thurs of Month: game day 10-noon. Classroom 9-10
URL:https://newlifetucson.com/events/senior-adults-game-day/2026-05-07/
LOCATION:New Life Bible Fellowship\, 4900 W Cortaro Farms Road\, Tucson\, AZ\, 85742\, United States
CATEGORIES:community,seniors
ATTACH;FMTTYPE=image/jpeg:https://newlifetucson.com/wp-content/uploads/2026/03/Senior-Adults-Game-Day-SOCIALS.jpg
ORGANIZER;CN="New Life Bible Fellowship":MAILTO:info@newlifetucson.com
END:VEVENT
BEGIN:VEVENT
DTSTART;TZID=America/Phoenix:20260526T113000
DTEND;TZID=America/Phoenix:20260526T130000
DTSTAMP:20260425T054734
CREATED:20260122T001639Z
LAST-MODIFIED:20260122T001639Z
UID:10002503-1779795000-1779800400@newlifetucson.com
SUMMARY:Senior Adults Afternoon Gathering
DESCRIPTION:Senior Adults get-together at New Life Bible Fellowship Church!  \n📅 Tuesday\, Date  \n🕤 11:30 AM  \n We’re excited to invite you to our Senior Adult Luncheon on the 4th Tuesday of the month. Come enjoy a time of food\, fellowship\, and encouragement as we continue this season together. Here’s what’s planned for our next gathering: • A devotional message to encourage your heart • A delicious complimentary lunch to enjoy with friends • A “Something to Think About” video to spark reflection • A celebration of this month’s birthdays and anniversaries • Closing with worship songs to lift our hearts in praise.
URL:https://newlifetucson.com/events/senioradultsafternoongathering/2026-05-26/
LOCATION:New Life Bible Fellowship\, 4900 W Cortaro Farms Road\, Tucson\, AZ\, 85742\, United States
CATEGORIES:churchwide,community,seniors
ATTACH;FMTTYPE=image/jpeg:https://newlifetucson.com/wp-content/uploads/2023/10/SOCIAL-Seniors-Adults-2022.jpg
ORGANIZER;CN="New Life Bible Fellowship":MAILTO:info@newlifetucson.com
END:VEVENT
BEGIN:VEVENT
DTSTART;TZID=America/Phoenix:20260604T100000
DTEND;TZID=America/Phoenix:20260605T120000
DTSTAMP:20260425T054734
CREATED:20260325T203558Z
LAST-MODIFIED:20260325T203558Z
UID:10002583-1780567200-1780660800@newlifetucson.com
SUMMARY:Senior Adults Game Day
DESCRIPTION:Senior Adult Game Time – 1st Thurs of Month: game day 10-noon. Classroom 9-10
URL:https://newlifetucson.com/events/senior-adults-game-day/2026-06-04/
LOCATION:New Life Bible Fellowship\, 4900 W Cortaro Farms Road\, Tucson\, AZ\, 85742\, United States
CATEGORIES:community,seniors
ATTACH;FMTTYPE=image/jpeg:https://newlifetucson.com/wp-content/uploads/2026/03/Senior-Adults-Game-Day-SOCIALS.jpg
ORGANIZER;CN="New Life Bible Fellowship":MAILTO:info@newlifetucson.com
END:VEVENT
BEGIN:VEVENT
DTSTART;TZID=America/Phoenix:20260623T113000
DTEND;TZID=America/Phoenix:20260623T130000
DTSTAMP:20260425T054734
CREATED:20260122T001639Z
LAST-MODIFIED:20260122T001639Z
UID:10002504-1782214200-1782219600@newlifetucson.com
SUMMARY:Senior Adults Afternoon Gathering
DESCRIPTION:Senior Adults get-together at New Life Bible Fellowship Church!  \n📅 Tuesday\, Date  \n🕤 11:30 AM  \n We’re excited to invite you to our Senior Adult Luncheon on the 4th Tuesday of the month. Come enjoy a time of food\, fellowship\, and encouragement as we continue this season together. Here’s what’s planned for our next gathering: • A devotional message to encourage your heart • A delicious complimentary lunch to enjoy with friends • A “Something to Think About” video to spark reflection • A celebration of this month’s birthdays and anniversaries • Closing with worship songs to lift our hearts in praise.
URL:https://newlifetucson.com/events/senioradultsafternoongathering/2026-06-23/
LOCATION:New Life Bible Fellowship\, 4900 W Cortaro Farms Road\, Tucson\, AZ\, 85742\, United States
CATEGORIES:churchwide,community,seniors
ATTACH;FMTTYPE=image/jpeg:https://newlifetucson.com/wp-content/uploads/2023/10/SOCIAL-Seniors-Adults-2022.jpg
ORGANIZER;CN="New Life Bible Fellowship":MAILTO:info@newlifetucson.com
END:VEVENT
BEGIN:VEVENT
DTSTART;TZID=America/Phoenix:20260702T100000
DTEND;TZID=America/Phoenix:20260703T120000
DTSTAMP:20260425T054734
CREATED:20260325T203558Z
LAST-MODIFIED:20260325T203558Z
UID:10002584-1782986400-1783080000@newlifetucson.com
SUMMARY:Senior Adults Game Day
DESCRIPTION:Senior Adult Game Time – 1st Thurs of Month: game day 10-noon. Classroom 9-10
URL:https://newlifetucson.com/events/senior-adults-game-day/2026-07-02/
LOCATION:New Life Bible Fellowship\, 4900 W Cortaro Farms Road\, Tucson\, AZ\, 85742\, United States
CATEGORIES:community,seniors
ATTACH;FMTTYPE=image/jpeg:https://newlifetucson.com/wp-content/uploads/2026/03/Senior-Adults-Game-Day-SOCIALS.jpg
ORGANIZER;CN="New Life Bible Fellowship":MAILTO:info@newlifetucson.com
END:VEVENT
BEGIN:VEVENT
DTSTART;TZID=America/Phoenix:20260714T113000
DTEND;TZID=America/Phoenix:20260714T130000
DTSTAMP:20260425T054734
CREATED:20260107T205931Z
LAST-MODIFIED:20260122T000101Z
UID:10002487-1784028600-1784034000@newlifetucson.com
SUMMARY:Senior Adult Meeting
DESCRIPTION:New Life’s Senior Adult Ministry offers regular opportunities for adults in this season of life to connect\, grow in faith\, and enjoy meaningful community together. We meet twice a month in the Worship Center for teaching\, worship\, and shared meals. \n2nd Tuesday – Gathering at 11:30 am in the Worship Center \n 
URL:https://newlifetucson.com/events/senior-adult-meeting/
LOCATION:New Life Bible Fellowship\, 4900 W Cortaro Farms Road\, Tucson\, AZ\, 85742\, United States
CATEGORIES:community,seniors
ATTACH;FMTTYPE=image/jpeg:https://newlifetucson.com/wp-content/uploads/2023/10/SOCIAL-Seniors-Adults-2022.jpg
ORGANIZER;CN="New Life Bible Fellowship":MAILTO:info@newlifetucson.com
END:VEVENT
BEGIN:VEVENT
DTSTART;TZID=America/Phoenix:20260806T100000
DTEND;TZID=America/Phoenix:20260807T120000
DTSTAMP:20260425T054734
CREATED:20260325T203558Z
LAST-MODIFIED:20260325T203558Z
UID:10002585-1786010400-1786104000@newlifetucson.com
SUMMARY:Senior Adults Game Day
DESCRIPTION:Senior Adult Game Time – 1st Thurs of Month: game day 10-noon. Classroom 9-10
URL:https://newlifetucson.com/events/senior-adults-game-day/2026-08-06/
LOCATION:New Life Bible Fellowship\, 4900 W Cortaro Farms Road\, Tucson\, AZ\, 85742\, United States
CATEGORIES:community,seniors
ATTACH;FMTTYPE=image/jpeg:https://newlifetucson.com/wp-content/uploads/2026/03/Senior-Adults-Game-Day-SOCIALS.jpg
ORGANIZER;CN="New Life Bible Fellowship":MAILTO:info@newlifetucson.com
END:VEVENT
BEGIN:VEVENT
DTSTART;TZID=America/Phoenix:20260825T113000
DTEND;TZID=America/Phoenix:20260825T130000
DTSTAMP:20260425T054734
CREATED:20260122T001639Z
LAST-MODIFIED:20260122T001639Z
UID:10002505-1787657400-1787662800@newlifetucson.com
SUMMARY:Senior Adults Afternoon Gathering
DESCRIPTION:Senior Adults get-together at New Life Bible Fellowship Church!  \n📅 Tuesday\, Date  \n🕤 11:30 AM  \n We’re excited to invite you to our Senior Adult Luncheon on the 4th Tuesday of the month. Come enjoy a time of food\, fellowship\, and encouragement as we continue this season together. Here’s what’s planned for our next gathering: • A devotional message to encourage your heart • A delicious complimentary lunch to enjoy with friends • A “Something to Think About” video to spark reflection • A celebration of this month’s birthdays and anniversaries • Closing with worship songs to lift our hearts in praise.
URL:https://newlifetucson.com/events/senioradultsafternoongathering/2026-08-25/
LOCATION:New Life Bible Fellowship\, 4900 W Cortaro Farms Road\, Tucson\, AZ\, 85742\, United States
CATEGORIES:churchwide,community,seniors
ATTACH;FMTTYPE=image/jpeg:https://newlifetucson.com/wp-content/uploads/2023/10/SOCIAL-Seniors-Adults-2022.jpg
ORGANIZER;CN="New Life Bible Fellowship":MAILTO:info@newlifetucson.com
END:VEVENT
BEGIN:VEVENT
DTSTART;TZID=America/Phoenix:20260903T100000
DTEND;TZID=America/Phoenix:20260904T120000
DTSTAMP:20260425T054735
CREATED:20260325T203558Z
LAST-MODIFIED:20260325T203558Z
UID:10002586-1788429600-1788523200@newlifetucson.com
SUMMARY:Senior Adults Game Day
DESCRIPTION:Senior Adult Game Time – 1st Thurs of Month: game day 10-noon. Classroom 9-10
URL:https://newlifetucson.com/events/senior-adults-game-day/2026-09-03/
LOCATION:New Life Bible Fellowship\, 4900 W Cortaro Farms Road\, Tucson\, AZ\, 85742\, United States
CATEGORIES:community,seniors
ATTACH;FMTTYPE=image/jpeg:https://newlifetucson.com/wp-content/uploads/2026/03/Senior-Adults-Game-Day-SOCIALS.jpg
ORGANIZER;CN="New Life Bible Fellowship":MAILTO:info@newlifetucson.com
END:VEVENT
BEGIN:VEVENT
DTSTART;TZID=America/Phoenix:20260922T113000
DTEND;TZID=America/Phoenix:20260922T130000
DTSTAMP:20260425T054735
CREATED:20260122T001639Z
LAST-MODIFIED:20260122T001639Z
UID:10002506-1790076600-1790082000@newlifetucson.com
SUMMARY:Senior Adults Afternoon Gathering
DESCRIPTION:Senior Adults get-together at New Life Bible Fellowship Church!  \n📅 Tuesday\, Date  \n🕤 11:30 AM  \n We’re excited to invite you to our Senior Adult Luncheon on the 4th Tuesday of the month. Come enjoy a time of food\, fellowship\, and encouragement as we continue this season together. Here’s what’s planned for our next gathering: • A devotional message to encourage your heart • A delicious complimentary lunch to enjoy with friends • A “Something to Think About” video to spark reflection • A celebration of this month’s birthdays and anniversaries • Closing with worship songs to lift our hearts in praise.
URL:https://newlifetucson.com/events/senioradultsafternoongathering/2026-09-22/
LOCATION:New Life Bible Fellowship\, 4900 W Cortaro Farms Road\, Tucson\, AZ\, 85742\, United States
CATEGORIES:churchwide,community,seniors
ATTACH;FMTTYPE=image/jpeg:https://newlifetucson.com/wp-content/uploads/2023/10/SOCIAL-Seniors-Adults-2022.jpg
ORGANIZER;CN="New Life Bible Fellowship":MAILTO:info@newlifetucson.com
END:VEVENT
BEGIN:VEVENT
DTSTART;TZID=America/Phoenix:20261001T100000
DTEND;TZID=America/Phoenix:20261002T120000
DTSTAMP:20260425T054735
CREATED:20260325T203558Z
LAST-MODIFIED:20260325T203558Z
UID:10002587-1790848800-1790942400@newlifetucson.com
SUMMARY:Senior Adults Game Day
DESCRIPTION:Senior Adult Game Time – 1st Thurs of Month: game day 10-noon. Classroom 9-10
URL:https://newlifetucson.com/events/senior-adults-game-day/2026-10-01/
LOCATION:New Life Bible Fellowship\, 4900 W Cortaro Farms Road\, Tucson\, AZ\, 85742\, United States
CATEGORIES:community,seniors
ATTACH;FMTTYPE=image/jpeg:https://newlifetucson.com/wp-content/uploads/2026/03/Senior-Adults-Game-Day-SOCIALS.jpg
ORGANIZER;CN="New Life Bible Fellowship":MAILTO:info@newlifetucson.com
END:VEVENT
BEGIN:VEVENT
DTSTART;TZID=America/Phoenix:20261027T113000
DTEND;TZID=America/Phoenix:20261027T130000
DTSTAMP:20260425T054735
CREATED:20260122T001639Z
LAST-MODIFIED:20260122T001639Z
UID:10002507-1793100600-1793106000@newlifetucson.com
SUMMARY:Senior Adults Afternoon Gathering
DESCRIPTION:Senior Adults get-together at New Life Bible Fellowship Church!  \n📅 Tuesday\, Date  \n🕤 11:30 AM  \n We’re excited to invite you to our Senior Adult Luncheon on the 4th Tuesday of the month. Come enjoy a time of food\, fellowship\, and encouragement as we continue this season together. Here’s what’s planned for our next gathering: • A devotional message to encourage your heart • A delicious complimentary lunch to enjoy with friends • A “Something to Think About” video to spark reflection • A celebration of this month’s birthdays and anniversaries • Closing with worship songs to lift our hearts in praise.
URL:https://newlifetucson.com/events/senioradultsafternoongathering/2026-10-27/
LOCATION:New Life Bible Fellowship\, 4900 W Cortaro Farms Road\, Tucson\, AZ\, 85742\, United States
CATEGORIES:churchwide,community,seniors
ATTACH;FMTTYPE=image/jpeg:https://newlifetucson.com/wp-content/uploads/2023/10/SOCIAL-Seniors-Adults-2022.jpg
ORGANIZER;CN="New Life Bible Fellowship":MAILTO:info@newlifetucson.com
END:VEVENT
BEGIN:VEVENT
DTSTART;TZID=America/Phoenix:20261105T100000
DTEND;TZID=America/Phoenix:20261106T120000
DTSTAMP:20260425T054735
CREATED:20260325T203558Z
LAST-MODIFIED:20260325T203558Z
UID:10002588-1793872800-1793966400@newlifetucson.com
SUMMARY:Senior Adults Game Day
DESCRIPTION:Senior Adult Game Time – 1st Thurs of Month: game day 10-noon. Classroom 9-10
URL:https://newlifetucson.com/events/senior-adults-game-day/2026-11-05/
LOCATION:New Life Bible Fellowship\, 4900 W Cortaro Farms Road\, Tucson\, AZ\, 85742\, United States
CATEGORIES:community,seniors
ATTACH;FMTTYPE=image/jpeg:https://newlifetucson.com/wp-content/uploads/2026/03/Senior-Adults-Game-Day-SOCIALS.jpg
ORGANIZER;CN="New Life Bible Fellowship":MAILTO:info@newlifetucson.com
END:VEVENT
BEGIN:VEVENT
DTSTART;TZID=America/Phoenix:20261203T100000
DTEND;TZID=America/Phoenix:20261204T120000
DTSTAMP:20260425T054735
CREATED:20260325T203558Z
LAST-MODIFIED:20260325T203558Z
UID:10002589-1796292000-1796385600@newlifetucson.com
SUMMARY:Senior Adults Game Day
DESCRIPTION:Senior Adult Game Time – 1st Thurs of Month: game day 10-noon. Classroom 9-10
URL:https://newlifetucson.com/events/senior-adults-game-day/2026-12-03/
LOCATION:New Life Bible Fellowship\, 4900 W Cortaro Farms Road\, Tucson\, AZ\, 85742\, United States
CATEGORIES:community,seniors
ATTACH;FMTTYPE=image/jpeg:https://newlifetucson.com/wp-content/uploads/2026/03/Senior-Adults-Game-Day-SOCIALS.jpg
ORGANIZER;CN="New Life Bible Fellowship":MAILTO:info@newlifetucson.com
END:VEVENT
BEGIN:VEVENT
DTSTART;TZID=America/Phoenix:20270107T100000
DTEND;TZID=America/Phoenix:20270108T120000
DTSTAMP:20260425T054735
CREATED:20260325T203558Z
LAST-MODIFIED:20260325T203558Z
UID:10002590-1799316000-1799409600@newlifetucson.com
SUMMARY:Senior Adults Game Day
DESCRIPTION:Senior Adult Game Time – 1st Thurs of Month: game day 10-noon. Classroom 9-10
URL:https://newlifetucson.com/events/senior-adults-game-day/2027-01-07/
LOCATION:New Life Bible Fellowship\, 4900 W Cortaro Farms Road\, Tucson\, AZ\, 85742\, United States
CATEGORIES:community,seniors
ATTACH;FMTTYPE=image/jpeg:https://newlifetucson.com/wp-content/uploads/2026/03/Senior-Adults-Game-Day-SOCIALS.jpg
ORGANIZER;CN="New Life Bible Fellowship":MAILTO:info@newlifetucson.com
END:VEVENT
BEGIN:VEVENT
DTSTART;TZID=America/Phoenix:20270204T100000
DTEND;TZID=America/Phoenix:20270205T120000
DTSTAMP:20260425T054735
CREATED:20260325T203558Z
LAST-MODIFIED:20260325T203558Z
UID:10002591-1801735200-1801828800@newlifetucson.com
SUMMARY:Senior Adults Game Day
DESCRIPTION:Senior Adult Game Time – 1st Thurs of Month: game day 10-noon. Classroom 9-10
URL:https://newlifetucson.com/events/senior-adults-game-day/2027-02-04/
LOCATION:New Life Bible Fellowship\, 4900 W Cortaro Farms Road\, Tucson\, AZ\, 85742\, United States
CATEGORIES:community,seniors
ATTACH;FMTTYPE=image/jpeg:https://newlifetucson.com/wp-content/uploads/2026/03/Senior-Adults-Game-Day-SOCIALS.jpg
ORGANIZER;CN="New Life Bible Fellowship":MAILTO:info@newlifetucson.com
END:VEVENT
BEGIN:VEVENT
DTSTART;TZID=America/Phoenix:20270304T100000
DTEND;TZID=America/Phoenix:20270305T120000
DTSTAMP:20260425T054735
CREATED:20260325T203558Z
LAST-MODIFIED:20260325T203558Z
UID:10002592-1804154400-1804248000@newlifetucson.com
SUMMARY:Senior Adults Game Day
DESCRIPTION:Senior Adult Game Time – 1st Thurs of Month: game day 10-noon. Classroom 9-10
URL:https://newlifetucson.com/events/senior-adults-game-day/2027-03-04/
LOCATION:New Life Bible Fellowship\, 4900 W Cortaro Farms Road\, Tucson\, AZ\, 85742\, United States
CATEGORIES:community,seniors
ATTACH;FMTTYPE=image/jpeg:https://newlifetucson.com/wp-content/uploads/2026/03/Senior-Adults-Game-Day-SOCIALS.jpg
ORGANIZER;CN="New Life Bible Fellowship":MAILTO:info@newlifetucson.com
END:VEVENT
BEGIN:VEVENT
DTSTART;TZID=America/Phoenix:20270401T100000
DTEND;TZID=America/Phoenix:20270402T120000
DTSTAMP:20260425T054735
CREATED:20260325T203558Z
LAST-MODIFIED:20260325T203558Z
UID:10002593-1806573600-1806667200@newlifetucson.com
SUMMARY:Senior Adults Game Day
DESCRIPTION:Senior Adult Game Time – 1st Thurs of Month: game day 10-noon. Classroom 9-10
URL:https://newlifetucson.com/events/senior-adults-game-day/2027-04-01/
LOCATION:New Life Bible Fellowship\, 4900 W Cortaro Farms Road\, Tucson\, AZ\, 85742\, United States
CATEGORIES:community,seniors
ATTACH;FMTTYPE=image/jpeg:https://newlifetucson.com/wp-content/uploads/2026/03/Senior-Adults-Game-Day-SOCIALS.jpg
ORGANIZER;CN="New Life Bible Fellowship":MAILTO:info@newlifetucson.com
END:VEVENT
BEGIN:VEVENT
DTSTART;TZID=America/Phoenix:20270506T100000
DTEND;TZID=America/Phoenix:20270507T120000
DTSTAMP:20260425T054735
CREATED:20260325T203558Z
LAST-MODIFIED:20260325T203558Z
UID:10002594-1809597600-1809691200@newlifetucson.com
SUMMARY:Senior Adults Game Day
DESCRIPTION:Senior Adult Game Time – 1st Thurs of Month: game day 10-noon. Classroom 9-10
URL:https://newlifetucson.com/events/senior-adults-game-day/2027-05-06/
LOCATION:New Life Bible Fellowship\, 4900 W Cortaro Farms Road\, Tucson\, AZ\, 85742\, United States
CATEGORIES:community,seniors
ATTACH;FMTTYPE=image/jpeg:https://newlifetucson.com/wp-content/uploads/2026/03/Senior-Adults-Game-Day-SOCIALS.jpg
ORGANIZER;CN="New Life Bible Fellowship":MAILTO:info@newlifetucson.com
END:VEVENT
BEGIN:VEVENT
DTSTART;TZID=America/Phoenix:20270603T100000
DTEND;TZID=America/Phoenix:20270604T120000
DTSTAMP:20260425T054735
CREATED:20260325T203558Z
LAST-MODIFIED:20260325T203558Z
UID:10002595-1812016800-1812110400@newlifetucson.com
SUMMARY:Senior Adults Game Day
DESCRIPTION:Senior Adult Game Time – 1st Thurs of Month: game day 10-noon. Classroom 9-10
URL:https://newlifetucson.com/events/senior-adults-game-day/2027-06-03/
LOCATION:New Life Bible Fellowship\, 4900 W Cortaro Farms Road\, Tucson\, AZ\, 85742\, United States
CATEGORIES:community,seniors
ATTACH;FMTTYPE=image/jpeg:https://newlifetucson.com/wp-content/uploads/2026/03/Senior-Adults-Game-Day-SOCIALS.jpg
ORGANIZER;CN="New Life Bible Fellowship":MAILTO:info@newlifetucson.com
END:VEVENT
BEGIN:VEVENT
DTSTART;TZID=America/Phoenix:20270701T100000
DTEND;TZID=America/Phoenix:20270702T120000
DTSTAMP:20260425T054735
CREATED:20260325T203558Z
LAST-MODIFIED:20260325T203558Z
UID:10002596-1814436000-1814529600@newlifetucson.com
SUMMARY:Senior Adults Game Day
DESCRIPTION:Senior Adult Game Time – 1st Thurs of Month: game day 10-noon. Classroom 9-10
URL:https://newlifetucson.com/events/senior-adults-game-day/2027-07-01/
LOCATION:New Life Bible Fellowship\, 4900 W Cortaro Farms Road\, Tucson\, AZ\, 85742\, United States
CATEGORIES:community,seniors
ATTACH;FMTTYPE=image/jpeg:https://newlifetucson.com/wp-content/uploads/2026/03/Senior-Adults-Game-Day-SOCIALS.jpg
ORGANIZER;CN="New Life Bible Fellowship":MAILTO:info@newlifetucson.com
END:VEVENT
BEGIN:VEVENT
DTSTART;TZID=America/Phoenix:20270805T100000
DTEND;TZID=America/Phoenix:20270806T120000
DTSTAMP:20260425T054735
CREATED:20260325T203558Z
LAST-MODIFIED:20260325T203558Z
UID:10002597-1817460000-1817553600@newlifetucson.com
SUMMARY:Senior Adults Game Day
DESCRIPTION:Senior Adult Game Time – 1st Thurs of Month: game day 10-noon. Classroom 9-10
URL:https://newlifetucson.com/events/senior-adults-game-day/2027-08-05/
LOCATION:New Life Bible Fellowship\, 4900 W Cortaro Farms Road\, Tucson\, AZ\, 85742\, United States
CATEGORIES:community,seniors
ATTACH;FMTTYPE=image/jpeg:https://newlifetucson.com/wp-content/uploads/2026/03/Senior-Adults-Game-Day-SOCIALS.jpg
ORGANIZER;CN="New Life Bible Fellowship":MAILTO:info@newlifetucson.com
END:VEVENT
BEGIN:VEVENT
DTSTART;TZID=America/Phoenix:20270902T100000
DTEND;TZID=America/Phoenix:20270903T120000
DTSTAMP:20260425T054735
CREATED:20260325T203558Z
LAST-MODIFIED:20260325T203558Z
UID:10002598-1819879200-1819972800@newlifetucson.com
SUMMARY:Senior Adults Game Day
DESCRIPTION:Senior Adult Game Time – 1st Thurs of Month: game day 10-noon. Classroom 9-10
URL:https://newlifetucson.com/events/senior-adults-game-day/2027-09-02/
LOCATION:New Life Bible Fellowship\, 4900 W Cortaro Farms Road\, Tucson\, AZ\, 85742\, United States
CATEGORIES:community,seniors
ATTACH;FMTTYPE=image/jpeg:https://newlifetucson.com/wp-content/uploads/2026/03/Senior-Adults-Game-Day-SOCIALS.jpg
ORGANIZER;CN="New Life Bible Fellowship":MAILTO:info@newlifetucson.com
END:VEVENT
BEGIN:VEVENT
DTSTART;TZID=America/Phoenix:20271007T100000
DTEND;TZID=America/Phoenix:20271008T120000
DTSTAMP:20260425T054735
CREATED:20260325T203558Z
LAST-MODIFIED:20260325T203558Z
UID:10002599-1822903200-1822996800@newlifetucson.com
SUMMARY:Senior Adults Game Day
DESCRIPTION:Senior Adult Game Time – 1st Thurs of Month: game day 10-noon. Classroom 9-10
URL:https://newlifetucson.com/events/senior-adults-game-day/2027-10-07/
LOCATION:New Life Bible Fellowship\, 4900 W Cortaro Farms Road\, Tucson\, AZ\, 85742\, United States
CATEGORIES:community,seniors
ATTACH;FMTTYPE=image/jpeg:https://newlifetucson.com/wp-content/uploads/2026/03/Senior-Adults-Game-Day-SOCIALS.jpg
ORGANIZER;CN="New Life Bible Fellowship":MAILTO:info@newlifetucson.com
END:VEVENT
BEGIN:VEVENT
DTSTART;TZID=America/Phoenix:20271104T100000
DTEND;TZID=America/Phoenix:20271105T120000
DTSTAMP:20260425T054735
CREATED:20260325T203558Z
LAST-MODIFIED:20260325T203558Z
UID:10002600-1825322400-1825416000@newlifetucson.com
SUMMARY:Senior Adults Game Day
DESCRIPTION:Senior Adult Game Time – 1st Thurs of Month: game day 10-noon. Classroom 9-10
URL:https://newlifetucson.com/events/senior-adults-game-day/2027-11-04/
LOCATION:New Life Bible Fellowship\, 4900 W Cortaro Farms Road\, Tucson\, AZ\, 85742\, United States
CATEGORIES:community,seniors
ATTACH;FMTTYPE=image/jpeg:https://newlifetucson.com/wp-content/uploads/2026/03/Senior-Adults-Game-Day-SOCIALS.jpg
ORGANIZER;CN="New Life Bible Fellowship":MAILTO:info@newlifetucson.com
END:VEVENT
BEGIN:VEVENT
DTSTART;TZID=America/Phoenix:20271202T100000
DTEND;TZID=America/Phoenix:20271203T120000
DTSTAMP:20260425T054735
CREATED:20260325T203558Z
LAST-MODIFIED:20260325T203558Z
UID:10002601-1827741600-1827835200@newlifetucson.com
SUMMARY:Senior Adults Game Day
DESCRIPTION:Senior Adult Game Time – 1st Thurs of Month: game day 10-noon. Classroom 9-10
URL:https://newlifetucson.com/events/senior-adults-game-day/2027-12-02/
LOCATION:New Life Bible Fellowship\, 4900 W Cortaro Farms Road\, Tucson\, AZ\, 85742\, United States
CATEGORIES:community,seniors
ATTACH;FMTTYPE=image/jpeg:https://newlifetucson.com/wp-content/uploads/2026/03/Senior-Adults-Game-Day-SOCIALS.jpg
ORGANIZER;CN="New Life Bible Fellowship":MAILTO:info@newlifetucson.com
END:VEVENT
END:VCALENDAR