BEGIN:VCALENDAR
VERSION:2.0
PRODID:-//New Life Bible Fellowship - ECPv6.15.20//NONSGML v1.0//EN
CALSCALE:GREGORIAN
METHOD:PUBLISH
X-WR-CALNAME:New Life Bible Fellowship
X-ORIGINAL-URL:https://newlifetucson.com
X-WR-CALDESC:Events for New Life Bible Fellowship
REFRESH-INTERVAL;VALUE=DURATION:PT1H
X-Robots-Tag:noindex
X-PUBLISHED-TTL:PT1H
BEGIN:VTIMEZONE
TZID:America/Phoenix
BEGIN:STANDARD
TZOFFSETFROM:-0700
TZOFFSETTO:-0700
TZNAME:MST
DTSTART:20240101T000000
END:STANDARD
END:VTIMEZONE
BEGIN:VEVENT
DTSTART;TZID=America/Phoenix:20260210T093000
DTEND;TZID=America/Phoenix:20260210T110000
DTSTAMP:20260423T171740
CREATED:20260117T055056Z
LAST-MODIFIED:20260117T055056Z
UID:10002447-1770715800-1770721200@newlifetucson.com
SUMMARY:Senior Adults Breakfast
DESCRIPTION:New Life’s Senior Adult Ministry offers regular opportunities for adults in this season of life to connect\, grow in faith\, and enjoy meaningful community together. We meet twice a month in the Worship Center for teaching\, worship\, and shared meals. \n2nd Tuesday – Morning Gathering at 9:30 am in the Worship Center \nOur 2nd Tuesday gathering is a relaxed morning of encouragement and connection\, including: \n\nA short devotional message\nBreakfast snacks and coffee\nA guest speaker\nWorship songs together\n\nYou’re welcome to bring a breakfast dish to share\, if you’d like.
URL:https://newlifetucson.com/events/senior-adults-breakfast/
LOCATION:AZ
CATEGORIES:community,seniors
END:VEVENT
BEGIN:VEVENT
DTSTART;TZID=America/Phoenix:20260210T093000
DTEND;TZID=America/Phoenix:20260210T110000
DTSTAMP:20260423T171740
CREATED:20251231T021411Z
LAST-MODIFIED:20260117T055049Z
UID:10001912-1770715800-1770721200@newlifetucson.com
SUMMARY:Senior Adults Monthly Breakfast Gathering
DESCRIPTION:New Life’s Senior Adult Ministry offers regular opportunities for adults in this season of life to connect\, grow in faith\, and enjoy meaningful community together. We meet twice a month in the Worship Center for teaching\, worship\, and shared meals. \nOur 2nd Tuesday gathering is a relaxed morning of encouragement and connection\, including: \n\nA short devotional message\nBreakfast snacks and coffee\nA guest speaker\nWorship songs together\n\nYou’re welcome to bring a breakfast dish to share\, if you’d like.
URL:https://newlifetucson.com/events/seniormorningfeb/
LOCATION:AZ
CATEGORIES:adults,seniors
ATTACH;FMTTYPE=image/jpeg:https://newlifetucson.com/wp-content/uploads/2023/10/SOCIAL-Seniors-Adults-2022.jpg
END:VEVENT
BEGIN:VEVENT
DTSTART;TZID=America/Phoenix:20260208T080000
DTEND;TZID=America/Phoenix:20260208T110000
DTSTAMP:20260423T171740
CREATED:20260117T055133Z
LAST-MODIFIED:20260117T055133Z
UID:10002460-1770537600-1770548400@newlifetucson.com
SUMMARY:Love Tucson All Church Service Morning
DESCRIPTION:We love Tucson\, and we love blessing our city! Every February\, New Life has the incredible opportunity to serve our community through Love Tucson\, offering several opportunities to support our local partners. On Sunday\, February 8\, instead of gathering here\, we’ll be heading out together to serve at one of our school partners\, Coyote Trail Elementary. They’ve asked us to help build a running track again!! There will be plenty of ways for everyone to jump in—from helping with that and many lighter projects that aren’t as labor-intensive. So\, there’s something everyone can do! You can start signing up at the tables on the patio every Sunday morning in January\, starting on the 11th\, or online HERE! The tables will also have information about all of the ways New Life is serving our neighbors! Please be praying about how you can be part of Love Tucson as we continue to be contributors\, not consumers\, and serve our city generously!
URL:https://newlifetucson.com/events/love-tucson-all-church-service-morning/
LOCATION:AZ
CATEGORIES:churchwide,community
END:VEVENT
BEGIN:VEVENT
DTSTART;TZID=America/Phoenix:20260205T173000
DTEND;TZID=America/Phoenix:20260205T193000
DTSTAMP:20260423T171740
CREATED:20260117T055135Z
LAST-MODIFIED:20260117T055135Z
UID:10002461-1770312600-1770319800@newlifetucson.com
SUMMARY:GriefShare Spring 2026 Group
DESCRIPTION:GriefShare is a 13-session program that walks with you through the grief you experience after a loved one dies. It employs a workbook\, video seminars on issues important to people during grief\, and provides opportunities for group discussion. The workbook can be purchased for $20 at your first meeting. We will begin on Thursday\, February 5\, 2026\, from 5:30 pm to 07:30 pm\, in Rooms 9/10. Questions? Please contact Sandra Gehrer – smgehrer@sbcglobal.net – 925-550-5658. \nREGISTER HERE
URL:https://newlifetucson.com/events/griefshare-spring-2026-group/
LOCATION:AZ
CATEGORIES:adults,churchwide,community
END:VEVENT
BEGIN:VEVENT
DTSTART;TZID=America/Phoenix:20260205T100000
DTEND;TZID=America/Phoenix:20260205T120000
DTSTAMP:20260423T171740
CREATED:20260117T055125Z
LAST-MODIFIED:20260117T055125Z
UID:10002458-1770285600-1770292800@newlifetucson.com
SUMMARY:Senior Adult Game Day
DESCRIPTION:Senior Adult Game Time – 1st Thurs of Month: game day 10-noon. Classroom 9-10
URL:https://newlifetucson.com/events/senior-adult-game-day/
LOCATION:AZ
CATEGORIES:adults,churchwide,community,seniors
END:VEVENT
BEGIN:VEVENT
DTSTART;TZID=America/Phoenix:20260205T090000
DTEND;TZID=America/Phoenix:20260205T120000
DTSTAMP:20260423T171740
CREATED:20260128T220144Z
LAST-MODIFIED:20260128T220144Z
UID:10002548-1770282000-1770292800@newlifetucson.com
SUMMARY:KSP (Knot-Sew-Perfect)
DESCRIPTION:Knot Sew Perfect invites you to serve with your hands and heart. Whether you’re experienced or brand new\, there’s a place for you in this warm and welcoming community. Help tie quilts for local ministries or jump into other meaningful projects. Join us on the 1st and 3rd Thursdays of each month\, 9am–12pm in Room 7. Please enter through the double doors on the EAST side of the New Life building. Got questions? Email Theresa Thomas at tmthomas2009@aol.com.
URL:https://newlifetucson.com/events/ksp1st/2026-02-05/
LOCATION:New Life Bible Fellowship\, 4900 W Cortaro Farms Road\, Tucson\, AZ\, 85742\, United States
CATEGORIES:adults,churchwide,community
ATTACH;FMTTYPE=image/jpeg:https://newlifetucson.com/wp-content/uploads/2025/01/KSP-SOCIALS.jpg
ORGANIZER;CN="New Life Bible Fellowship":MAILTO:info@newlifetucson.com
END:VEVENT
BEGIN:VEVENT
DTSTART;TZID=America/Phoenix:20260204T180000
DTEND;TZID=America/Phoenix:20260204T203000
DTSTAMP:20260423T171740
CREATED:20260107T212047Z
LAST-MODIFIED:20260121T235851Z
UID:10002477-1770228000-1770237000@newlifetucson.com
SUMMARY:Selah in the P.M. Women's Study
DESCRIPTION:Selah is a New Life Bible Fellowship Women’s Connection Experience on Wednesday Mornings and Evenings. We are a place where every woman\, regardless of age\, spiritual journey\, or church affiliation\, can come and find a connection with God and each other. We hope and pray that every woman who comes finds that they are seen\, known\, heard\, and deeply loved. \nRegister for the EVENING Session – Spring 2026 Session begins January 28. Registration and more information can be found HERE
URL:https://newlifetucson.com/events/selah-in-the-p-m-womens-study/2026-02-04/
LOCATION:New Life Bible Fellowship\, 4900 W Cortaro Farms Road\, Tucson\, AZ\, 85742\, United States
CATEGORIES:community,women
ATTACH;FMTTYPE=:
ORGANIZER;CN="New Life Bible Fellowship":MAILTO:info@newlifetucson.com
END:VEVENT
BEGIN:VEVENT
DTSTART;TZID=America/Phoenix:20260204T180000
DTEND;TZID=America/Phoenix:20260204T200000
DTSTAMP:20260423T171741
CREATED:20251223T020807Z
LAST-MODIFIED:20260117T055040Z
UID:10001910-1770228000-1770235200@newlifetucson.com
SUMMARY:Spring 2026 ConnectGroup Kick-Off
DESCRIPTION:Rooted is an 11-week experience for people in every stage of life\, whether you are just beginning your journey to faith or are a lifelong follower of Jesus. These 11 weeks are focused on creating healthy spiritual rhythms through prayer\, daily devotions\, freedom from strongholds\, serving the community\, generosity\, sharing our stories\, and celebrating together. You will meet with a small group of people once a week to encourage one another\, discuss what you are learning\, and pray together. Rooted is not just a study; it is a catalyst for life change. \nRooted groups will meet weekly starting on Wednesday\, February 4th\, at 6:00pm and run through April. \nChildcare will be provided. \nRegister HERE
URL:https://newlifetucson.com/events/rootedspring26/
LOCATION:New Life Bible Fellowship\, 4900 W Cortaro Farms Road\, Tucson\, AZ\, 85742\, United States
CATEGORIES:adults,churchwide,community
ATTACH;FMTTYPE=image/jpeg:https://newlifetucson.com/wp-content/uploads/2025/12/Connect-Group-SOCIAL.jpg
END:VEVENT
BEGIN:VEVENT
DTSTART;TZID=America/Phoenix:20260203T090000
DTEND;TZID=America/Phoenix:20260203T113000
DTSTAMP:20260423T171741
CREATED:20260117T055147Z
LAST-MODIFIED:20260117T055147Z
UID:10002464-1770109200-1770118200@newlifetucson.com
SUMMARY:The Nest @MomsMatter
DESCRIPTION:The Nest @MomsMatter is a ministry for moms of young children (pregnancy through pre-school). The purpose of this ministry is to provide a comfortable place for moms to come and experience authentic relationships and be encouraged by fellow moms. Our desire is for every mom to feel seen and known for who they are\, not for being “just a mom.” Our meetings include a hot breakfast\, speakers sharing various topics that are relevant\, meaningful\, and fun\, an occasional craft/service project to bless those in need in our community\, and\, most importantly\, plenty of time to have adult conversations with fellow moms. \nThe Nest @MomsMatter Spring 2026 Semester. \nMake plans to join us on the 1st and 3rd Tuesday mornings this Winter/Spring\, beginning January 20. We will meet from 9am until 11:30am. Childcare will be offered \nRegister for The Nest @MomsMatter
URL:https://newlifetucson.com/events/the-nest-momsmatter-10/
LOCATION:AZ
CATEGORIES:churchwide,community,parents,women
END:VEVENT
BEGIN:VEVENT
DTSTART;TZID=America/Phoenix:20260128T180000
DTEND;TZID=America/Phoenix:20260128T203000
DTSTAMP:20260423T171741
CREATED:20260107T212047Z
LAST-MODIFIED:20260121T235851Z
UID:10002476-1769623200-1769632200@newlifetucson.com
SUMMARY:Selah in the P.M. Women's Study
DESCRIPTION:Selah is a New Life Bible Fellowship Women’s Connection Experience on Wednesday Mornings and Evenings. We are a place where every woman\, regardless of age\, spiritual journey\, or church affiliation\, can come and find a connection with God and each other. We hope and pray that every woman who comes finds that they are seen\, known\, heard\, and deeply loved. \nRegister for the EVENING Session – Spring 2026 Session begins January 28. Registration and more information can be found HERE
URL:https://newlifetucson.com/events/selah-in-the-p-m-womens-study/2026-01-28/
LOCATION:New Life Bible Fellowship\, 4900 W Cortaro Farms Road\, Tucson\, AZ\, 85742\, United States
CATEGORIES:community,women
ATTACH;FMTTYPE=:
ORGANIZER;CN="New Life Bible Fellowship":MAILTO:info@newlifetucson.com
END:VEVENT
BEGIN:VEVENT
DTSTART;TZID=America/Phoenix:20260128T180000
DTEND;TZID=America/Phoenix:20260128T200000
DTSTAMP:20260423T171741
CREATED:20250911T171249Z
LAST-MODIFIED:20250911T171249Z
UID:10001846-1769623200-1769630400@newlifetucson.com
SUMMARY:Girl's & Boy's Club Meetings
DESCRIPTION:
URL:https://newlifetucson.com/events/girls-boys-club-meetings/2026-01-28/
LOCATION:New Life Bible Fellowship\, 4900 W Cortaro Farms Road\, Tucson\, AZ\, 85742\, United States
CATEGORIES:children,churchwide,community
ATTACH;FMTTYPE=image/jpeg:https://newlifetucson.com/wp-content/uploads/2025/09/boys-and-girls.jpg
ORGANIZER;CN="New Life Bible Fellowship":MAILTO:info@newlifetucson.com
END:VEVENT
BEGIN:VEVENT
DTSTART;TZID=America/Phoenix:20260127T113000
DTEND;TZID=America/Phoenix:20260127T130000
DTSTAMP:20260423T171741
CREATED:20260122T001639Z
LAST-MODIFIED:20260122T001639Z
UID:10002499-1769513400-1769518800@newlifetucson.com
SUMMARY:Senior Adults Afternoon Gathering
DESCRIPTION:Senior Adults get-together at New Life Bible Fellowship Church!  \n📅 Tuesday\, Date  \n🕤 11:30 AM  \n We’re excited to invite you to our Senior Adult Luncheon on the 4th Tuesday of the month. Come enjoy a time of food\, fellowship\, and encouragement as we continue this season together. Here’s what’s planned for our next gathering: • A devotional message to encourage your heart • A delicious complimentary lunch to enjoy with friends • A “Something to Think About” video to spark reflection • A celebration of this month’s birthdays and anniversaries • Closing with worship songs to lift our hearts in praise.
URL:https://newlifetucson.com/events/senioradultsafternoongathering/2026-01-27/
LOCATION:New Life Bible Fellowship\, 4900 W Cortaro Farms Road\, Tucson\, AZ\, 85742\, United States
CATEGORIES:churchwide,community,seniors
ATTACH;FMTTYPE=image/jpeg:https://newlifetucson.com/wp-content/uploads/2023/10/SOCIAL-Seniors-Adults-2022.jpg
ORGANIZER;CN="New Life Bible Fellowship":MAILTO:info@newlifetucson.com
END:VEVENT
BEGIN:VEVENT
DTSTART;TZID=America/Phoenix:20260123T180000
DTEND;TZID=America/Phoenix:20260123T203000
DTSTAMP:20260423T171741
CREATED:20260105T233817Z
LAST-MODIFIED:20260117T055053Z
UID:10001914-1769191200-1769200200@newlifetucson.com
SUMMARY:inFORMED Women's Event
DESCRIPTION:inFORMED is an evening that invites women into a deeper understanding of spiritual formation: \nWhere faith is shaped through practice\, presence\, and relationship\, not just information alone.\nWe’ll reflect on how Christ-centered practices form us over a lifetime into the way of Jesus\, \noffering rest instead of striving and grace instead of perfection.\nCome for an unhurried evening of teaching\, reflection\, and connection.
URL:https://newlifetucson.com/events/informed2026/
LOCATION:New Life Bible Fellowship\, 4900 W Cortaro Farms Road\, Tucson\, AZ\, 85742\, United States
CATEGORIES:adults,churchwide,community,women
ATTACH;FMTTYPE=image/jpeg:https://newlifetucson.com/wp-content/uploads/2026/01/6.jpg
END:VEVENT
BEGIN:VEVENT
DTSTART;TZID=America/Phoenix:20260122T100000
DTEND;TZID=America/Phoenix:20260122T120000
DTSTAMP:20260423T171741
CREATED:20260117T055119Z
LAST-MODIFIED:20260117T055119Z
UID:10002457-1769076000-1769083200@newlifetucson.com
SUMMARY:Senior Adult Bible Study
DESCRIPTION:Senior Adult Bible Study – 2nd &4th Thurs of Month: Bible study at 10 (ends 11:30-noon). Classroom 9-10
URL:https://newlifetucson.com/events/senior-adult-bible-study-2/
LOCATION:AZ
CATEGORIES:adults,churchwide,community,seniors
END:VEVENT
BEGIN:VEVENT
DTSTART;TZID=America/Phoenix:20260121T180000
DTEND;TZID=America/Phoenix:20260121T193000
DTSTAMP:20260423T171741
CREATED:20260117T055137Z
LAST-MODIFIED:20260120T213523Z
UID:10002462-1769018400-1769023800@newlifetucson.com
SUMMARY:Unwrapped
DESCRIPTION:Become a contributor at New Life by attending UNWRAPPED\, a workshop designed to help you uncover your God-given spiritual gifts\, abilities\, and life experiences. You’ll learn how God has uniquely shaped you to serve Him and others—and how you can make a difference both at our main campus and at the new church campus. As part of this journey\, you’ll receive training to begin serving at the current campus and gain experience and confidence. You’ll also have the opportunity to meet ministry leaders\, ask questions\, and explore where your gifts can be used to make the greatest impact\, to be equipped to step into meaningful service that fits how God created you. UNWRAPPED will take place on Wednesday\, January 21st\, from 6:00–7:30pm in Room 7. Childcare is available. Sign up by following the link below or by visiting the First Step table on Sunday morning.
URL:https://newlifetucson.com/events/unwrapped/
LOCATION:AZ
CATEGORIES:adults,churchwide,community
END:VEVENT
BEGIN:VEVENT
DTSTART;TZID=America/Phoenix:20260120T090000
DTEND;TZID=America/Phoenix:20260120T113000
DTSTAMP:20260423T171741
CREATED:20260117T055143Z
LAST-MODIFIED:20260117T055143Z
UID:10002463-1768899600-1768908600@newlifetucson.com
SUMMARY:The Nest @MomsMatter
DESCRIPTION:The Nest @MomsMatter is a ministry for moms of young children (pregnancy through pre-school). The purpose of this ministry is to provide a comfortable place for moms to come and experience authentic relationships and be encouraged by fellow moms. Our desire is for every mom to feel seen and known for who they are\, not for being “just a mom.” Our meetings include a hot breakfast\, speakers sharing various topics that are relevant\, meaningful\, and fun\, an occasional craft/service project to bless those in need in our community\, and\, most importantly\, plenty of time to have adult conversations with fellow moms. \nThe Nest @MomsMatter Spring 2026 Semester. \nMake plans to join us on the 1st and 3rd Tuesday mornings this Winter/Spring\, beginning January 20. We will meet from 9am until 11:30am. Childcare will be offered \nRegister for The Nest @MomsMatter
URL:https://newlifetucson.com/events/the-nest-momsmatter-9/
LOCATION:AZ
CATEGORIES:churchwide,community,parents,women
END:VEVENT
BEGIN:VEVENT
DTSTART;TZID=America/Phoenix:20260117T073000
DTEND;TZID=America/Phoenix:20260117T090000
DTSTAMP:20260423T171741
CREATED:20260117T055109Z
LAST-MODIFIED:20260122T003850Z
UID:10002452-1768635000-1768640400@newlifetucson.com
SUMMARY:Anchored Men's Breakfast
DESCRIPTION:If you’re a father\, a husband\, a brother\, or a son looking for a place of fellowship\, acceptance\, or encouragement\, then you are welcome here! Guys\, we need each other more than we realize. Let’s stop sticking to what’s comfortable\, familiar\, and quiet – instead\, let’s break bread together and explore life outside the lines! Life is better together. We meet every 3rd Saturday at 7:30 a.m. here at New Life.
URL:https://newlifetucson.com/events/anchored-mens-breakfast-2/2026-01-17/
LOCATION:AZ
CATEGORIES:adults,community,men
ATTACH;FMTTYPE=image/jpeg:https://newlifetucson.com/wp-content/uploads/2025/10/Anchored-Mens-Group-SOCIAL-copy.jpg
END:VEVENT
BEGIN:VEVENT
DTSTART;TZID=America/Phoenix:20260115T090000
DTEND;TZID=America/Phoenix:20260115T120000
DTSTAMP:20260423T171741
CREATED:20260117T055112Z
LAST-MODIFIED:20260117T055112Z
UID:10002453-1768467600-1768478400@newlifetucson.com
SUMMARY:Knot-Sew-Perfect
DESCRIPTION:Knot Sew Perfect invites you to serve with your hands and heart. Whether you’re experienced or brand new\, there’s a place for you in this warm and welcoming community. Help tie quilts for local ministries or jump into other meaningful projects. Join us on the 1st and 3rd Thursdays of each month\, 9am–12pm in Room 7. Please enter through the double doors on the EAST side of the New Life building. Got questions? Email Theresa Thomas at tmthomas2009@aol.com
URL:https://newlifetucson.com/events/knot-sew-perfect/
LOCATION:AZ
CATEGORIES:adults,churchwide,community
END:VEVENT
BEGIN:VEVENT
DTSTART;TZID=America/Phoenix:20260114T180000
DTEND;TZID=America/Phoenix:20260114T200000
DTSTAMP:20260423T171741
CREATED:20250911T171249Z
LAST-MODIFIED:20250911T171249Z
UID:10001845-1768413600-1768420800@newlifetucson.com
SUMMARY:Girl's & Boy's Club Meetings
DESCRIPTION:
URL:https://newlifetucson.com/events/girls-boys-club-meetings/2026-01-14/
LOCATION:New Life Bible Fellowship\, 4900 W Cortaro Farms Road\, Tucson\, AZ\, 85742\, United States
CATEGORIES:children,churchwide,community
ATTACH;FMTTYPE=image/jpeg:https://newlifetucson.com/wp-content/uploads/2025/09/boys-and-girls.jpg
ORGANIZER;CN="New Life Bible Fellowship":MAILTO:info@newlifetucson.com
END:VEVENT
BEGIN:VEVENT
DTSTART;TZID=America/Phoenix:20260113T093000
DTEND;TZID=America/Phoenix:20260113T110000
DTSTAMP:20260423T171741
CREATED:20251231T020626Z
LAST-MODIFIED:20260117T055042Z
UID:10001911-1768296600-1768302000@newlifetucson.com
SUMMARY:Senior Adult Monthly Breakfast Gathering
DESCRIPTION:New Life’s Senior Adult Ministry offers regular opportunities for adults in this season of life to connect\, grow in faith\, and enjoy meaningful community together. We meet twice a month in the Worship Center for teaching\, worship\, and shared meals. \nOur 2nd Tuesday gathering is a relaxed morning of encouragement and connection\, including: \n\nA short devotional message\nBreakfast snacks and coffee\nA guest speaker\nWorship songs together\n\nYou’re welcome to bring a breakfast dish to share\, if you’d like.
URL:https://newlifetucson.com/events/seniorsbreakfast/
LOCATION:New Life Bible Fellowship\, 4900 W Cortaro Farms Road\, Tucson\, AZ\, 85742\, United States
CATEGORIES:adults,seniors
ATTACH;FMTTYPE=image/jpeg:https://newlifetucson.com/wp-content/uploads/2023/10/SOCIAL-Seniors-Adults-2022.jpg
END:VEVENT
BEGIN:VEVENT
DTSTART;TZID=America/Phoenix:20260111T090000
DTEND;TZID=America/Phoenix:20260111T113000
DTSTAMP:20260423T171741
CREATED:20260117T055129Z
LAST-MODIFIED:20260117T055129Z
UID:10002459-1768122000-1768131000@newlifetucson.com
SUMMARY:Love Tucson Month Sign Up
DESCRIPTION:We love Tucson\, and we love blessing our city! Every February\, New Life has the incredible opportunity to serve our community through Love Tucson\, offering several opportunities to support our local partners. On Sunday\, February 8\, instead of gathering here\, we’ll be heading out together to serve at one of our school partners\, Coyote Trail Elementary. They’ve asked us to help build a running track again!! There will be plenty of ways for everyone to jump in—from helping with that and many lighter projects that aren’t as labor-intensive. So\, there’s something everyone can do! You can start signing up at the tables on the patio every Sunday morning in January\, starting on the 11th\, or online by visiting HERE. The tables will also have information about all of the ways New Life is serving our neighbors! Please be praying about how you can be part of Love Tucson as we continue to be contributors\, not consumers\, and serve our city generously!
URL:https://newlifetucson.com/events/love-tucson-month-sign-up/
LOCATION:AZ
CATEGORIES:adults,care,children,churchwide,community,men,parents,seniors,students,women
END:VEVENT
BEGIN:VEVENT
DTSTART;TZID=America/Phoenix:20260108T100000
DTEND;TZID=America/Phoenix:20260108T120000
DTSTAMP:20260423T171741
CREATED:20260117T055117Z
LAST-MODIFIED:20260117T055117Z
UID:10002456-1767866400-1767873600@newlifetucson.com
SUMMARY:Senior Adult Bible Study
DESCRIPTION:Senior Adult Bible Study – 2nd &4th Thurs of Month: Bible study at 10 (ends 11:30-noon). Classroom 9-10
URL:https://newlifetucson.com/events/senior-adult-bible-study/
LOCATION:AZ
CATEGORIES:adults,churchwide,community,seniors
END:VEVENT
BEGIN:VEVENT
DTSTART;TZID=America/Phoenix:20260107T090000
DTEND;TZID=America/Phoenix:20260107T113000
DTSTAMP:20260423T171741
CREATED:20260117T055104Z
LAST-MODIFIED:20260117T055104Z
UID:10002449-1767776400-1767785400@newlifetucson.com
SUMMARY:Selah in the A.M. Women's Study
DESCRIPTION:Selah is a New Life Bible Fellowship Women’s Connection Experience on Wednesday Mornings and Evenings. We are a place where every woman\, regardless of age\, spiritual journey\, or church affiliation\, can come and find a connection with God and each other. We hope and pray that every woman who comes finds that they are seen\, known\, heard\, and deeply loved.
URL:https://newlifetucson.com/events/selah-in-the-a-m-womens-study-2/
LOCATION:AZ
CATEGORIES:adults,churchwide,community,women
END:VEVENT
BEGIN:VEVENT
DTSTART;TZID=America/Phoenix:20260107T080000
DTEND;TZID=America/Phoenix:20260107T090000
DTSTAMP:20260423T171741
CREATED:20260117T055116Z
LAST-MODIFIED:20260117T055116Z
UID:10002455-1767772800-1767776400@newlifetucson.com
SUMMARY:Worship Wednesdays
DESCRIPTION:Looking for rest\, refreshment\, or some additional time of prayer and worship to the Lord? Then please join us for Worship Wednesdays\, every Wednesday morning from 8 a.m. to 9 a.m. in classroom 7. Bring your Bible and the prayers of your heart\, and plan to get lost in the Spirit as we minister to Him.
URL:https://newlifetucson.com/events/worship-wednesdays/
LOCATION:AZ
CATEGORIES:churchwide,community
END:VEVENT
BEGIN:VEVENT
DTSTART;TZID=America/Phoenix:20251228T123000
DTEND;TZID=America/Phoenix:20251228T140000
DTSTAMP:20260423T171741
CREATED:20260117T055038Z
LAST-MODIFIED:20260117T055038Z
UID:10002445-1766925000-1766930400@newlifetucson.com
SUMMARY:Evangelism & Outreach Workshop
DESCRIPTION:What if evangelism felt less intimidating and more like everyday discipleship? Join Elder Sal Perez and Pastor Luke van Schie for a hands-on Evangelism & Outreach Workshop built around practical skills\, real stories\, and the call to Go\, Tell\, Cultivate\, and Transform. Lunch included! Happening after 2nd service in Room 7 at Cortaro. \nRegister HERE to let us know you’re coming!
URL:https://newlifetucson.com/events/evangelism-outreach-workshop-5/
LOCATION:AZ
CATEGORIES:churchwide,community
END:VEVENT
BEGIN:VEVENT
DTSTART;TZID=America/Phoenix:20251228T123000
DTEND;TZID=America/Phoenix:20251228T140000
DTSTAMP:20260423T171741
CREATED:20251218T231810Z
LAST-MODIFIED:20251218T231810Z
UID:10001909-1766925000-1766930400@newlifetucson.com
SUMMARY:Evangelism & Outreach Workshop
DESCRIPTION:What if evangelism felt less intimidating and more like everyday discipleship? Join Elder Sal Perez and Pastor Luke van Schie for a hands-on Evangelism & Outreach Workshop built around practical skills\, real stories\, and the call to Go\, Tell\, Cultivate\, and Transform. Lunch included! Happening after 2nd service in Room 7 at Cortaro. \nRegister HERE to let us know you’re coming!
URL:https://newlifetucson.com/events/evangelism-outreach-workshop/
LOCATION:New Life Bible Fellowship\, 4900 W Cortaro Farms Road\, Tucson\, AZ\, 85742\, United States
CATEGORIES:churchwide,community
END:VEVENT
BEGIN:VEVENT
DTSTART;TZID=America/Phoenix:20251224T153000
DTEND;TZID=America/Phoenix:20251224T180000
DTSTAMP:20260423T171741
CREATED:20251125T220050Z
LAST-MODIFIED:20260117T055029Z
UID:10001904-1766590200-1766599200@newlifetucson.com
SUMMARY:Christmas Eve Services at Gladden Campus
DESCRIPTION:Christmas Eve Services at the Gladden Campus will be: \nWednesday\, December 24\, at 3:30pm and 5pm \nWe hope you will join us as we celebrate the birth of the King and Christmas Fulfilled.
URL:https://newlifetucson.com/events/xmaseve25gladden/
LOCATION:Tangerine Farms K-8 School\, 10300 Mike Etter Blvd\, Marana\, AZ\, United States
CATEGORIES:churchwide,community
ATTACH;FMTTYPE=image/jpeg:https://newlifetucson.com/wp-content/uploads/2025/11/Gladden-Christmas-Eve-for-Wb.jpg
END:VEVENT
BEGIN:VEVENT
DTSTART;TZID=America/Phoenix:20251224T140000
DTEND;TZID=America/Phoenix:20251224T180000
DTSTAMP:20260423T171741
CREATED:20251125T220327Z
LAST-MODIFIED:20260117T055031Z
UID:10001905-1766584800-1766599200@newlifetucson.com
SUMMARY:Christmas Eve Services at Cortaro Campus
DESCRIPTION:Christmas Eve services at the Cortaro Campus (4900 W Cortaro Farms Road) will be \n2pm \n3:30pm \n5:00pm \nWe look forward to worshipping with you as we celebrate the birth of the King and Christmas Fulfilled.
URL:https://newlifetucson.com/events/xmaseve25cortaro/
LOCATION:New Life Bible Fellowship\, 4900 W Cortaro Farms Road\, Tucson\, AZ\, 85742\, United States
CATEGORIES:churchwide,community
ATTACH;FMTTYPE=image/jpeg:https://newlifetucson.com/wp-content/uploads/2025/11/Chrstms_fulfld_insta_times.jpg
END:VEVENT
BEGIN:VEVENT
DTSTART;TZID=America/Phoenix:20251223T170000
DTEND;TZID=America/Phoenix:20251223T180000
DTSTAMP:20260423T171741
CREATED:20251112T155928Z
LAST-MODIFIED:20260117T055028Z
UID:10001898-1766509200-1766512800@newlifetucson.com
SUMMARY:Christmas Adam Service at New Life Cortaro Campus
DESCRIPTION:Join us for the ‘Christmas Adam’ service at the Cortaro Campus if you are unable to attend a Christmas Eve service. \n 
URL:https://newlifetucson.com/events/christmasadam25/
LOCATION:New Life Bible Fellowship\, 4900 W Cortaro Farms Road\, Tucson\, AZ\, 85742\, United States
CATEGORIES:churchwide,community
END:VEVENT
BEGIN:VEVENT
DTSTART;TZID=America/Phoenix:20251214T130000
DTEND;TZID=America/Phoenix:20251214T150000
DTSTAMP:20260423T171741
CREATED:20251125T221232Z
LAST-MODIFIED:20260117T055032Z
UID:10001906-1765717200-1765724400@newlifetucson.com
SUMMARY:All-Church Christmas Caroling
DESCRIPTION:Come spread some Christmas cheer as we carol together. We will meet at the Cortaro Campus church loop and caravan from there. Sunday\, December 14th\, from 1-3pm\, and visit a few different locations.
URL:https://newlifetucson.com/events/caroling25/
LOCATION:AZ
CATEGORIES:adults,children,churchwide,community
ATTACH;FMTTYPE=image/jpeg:https://newlifetucson.com/wp-content/uploads/2025/11/6.jpg
END:VEVENT
END:VCALENDAR