BEGIN:VCALENDAR
VERSION:2.0
PRODID:-//New Life Bible Fellowship - ECPv6.15.20//NONSGML v1.0//EN
CALSCALE:GREGORIAN
METHOD:PUBLISH
X-ORIGINAL-URL:https://newlifetucson.com
X-WR-CALDESC:Events for New Life Bible Fellowship
REFRESH-INTERVAL;VALUE=DURATION:PT1H
X-Robots-Tag:noindex
X-PUBLISHED-TTL:PT1H
BEGIN:VTIMEZONE
TZID:America/Phoenix
BEGIN:STANDARD
TZOFFSETFROM:-0700
TZOFFSETTO:-0700
TZNAME:MST
DTSTART:20250101T000000
END:STANDARD
END:VTIMEZONE
BEGIN:VEVENT
DTSTART;TZID=America/Phoenix:20260521T090000
DTEND;TZID=America/Phoenix:20260521T120000
DTSTAMP:20260423T085044
CREATED:20260128T220346Z
LAST-MODIFIED:20260128T220346Z
UID:10002562-1779354000-1779364800@newlifetucson.com
SUMMARY:KSP (Knot-Sew-Perfect)
DESCRIPTION:Knot Sew Perfect invites you to serve with your hands and heart. Whether you’re experienced or brand new\, there’s a place for you in this warm and welcoming community. Help tie quilts for local ministries or jump into other meaningful projects. Join us on the 1st and 3rd Thursdays of each month\, 9am–12pm in Room 7. Please enter through the double doors on the EAST side of the New Life building. Got questions? Email Theresa Thomas at tmthomas2009@aol.com.
URL:https://newlifetucson.com/events/ksp3rd/2026-05-21/
LOCATION:New Life Bible Fellowship\, 4900 W Cortaro Farms Road\, Tucson\, AZ\, 85742\, United States
ATTACH;FMTTYPE=image/jpeg:https://newlifetucson.com/wp-content/uploads/2025/01/KSP-SOCIALS.jpg
ORGANIZER;CN="New Life Bible Fellowship":MAILTO:info@newlifetucson.com
END:VEVENT
BEGIN:VEVENT
DTSTART;TZID=America/Phoenix:20260618T090000
DTEND;TZID=America/Phoenix:20260618T120000
DTSTAMP:20260423T085044
CREATED:20260128T220346Z
LAST-MODIFIED:20260128T220346Z
UID:10002563-1781773200-1781784000@newlifetucson.com
SUMMARY:KSP (Knot-Sew-Perfect)
DESCRIPTION:Knot Sew Perfect invites you to serve with your hands and heart. Whether you’re experienced or brand new\, there’s a place for you in this warm and welcoming community. Help tie quilts for local ministries or jump into other meaningful projects. Join us on the 1st and 3rd Thursdays of each month\, 9am–12pm in Room 7. Please enter through the double doors on the EAST side of the New Life building. Got questions? Email Theresa Thomas at tmthomas2009@aol.com.
URL:https://newlifetucson.com/events/ksp3rd/2026-06-18/
LOCATION:New Life Bible Fellowship\, 4900 W Cortaro Farms Road\, Tucson\, AZ\, 85742\, United States
ATTACH;FMTTYPE=image/jpeg:https://newlifetucson.com/wp-content/uploads/2025/01/KSP-SOCIALS.jpg
ORGANIZER;CN="New Life Bible Fellowship":MAILTO:info@newlifetucson.com
END:VEVENT
BEGIN:VEVENT
DTSTART;TZID=America/Phoenix:20260716T090000
DTEND;TZID=America/Phoenix:20260716T120000
DTSTAMP:20260423T085044
CREATED:20260128T220346Z
LAST-MODIFIED:20260128T220346Z
UID:10002564-1784192400-1784203200@newlifetucson.com
SUMMARY:KSP (Knot-Sew-Perfect)
DESCRIPTION:Knot Sew Perfect invites you to serve with your hands and heart. Whether you’re experienced or brand new\, there’s a place for you in this warm and welcoming community. Help tie quilts for local ministries or jump into other meaningful projects. Join us on the 1st and 3rd Thursdays of each month\, 9am–12pm in Room 7. Please enter through the double doors on the EAST side of the New Life building. Got questions? Email Theresa Thomas at tmthomas2009@aol.com.
URL:https://newlifetucson.com/events/ksp3rd/2026-07-16/
LOCATION:New Life Bible Fellowship\, 4900 W Cortaro Farms Road\, Tucson\, AZ\, 85742\, United States
ATTACH;FMTTYPE=image/jpeg:https://newlifetucson.com/wp-content/uploads/2025/01/KSP-SOCIALS.jpg
ORGANIZER;CN="New Life Bible Fellowship":MAILTO:info@newlifetucson.com
END:VEVENT
BEGIN:VEVENT
DTSTART;TZID=America/Phoenix:20260820T090000
DTEND;TZID=America/Phoenix:20260820T120000
DTSTAMP:20260423T085044
CREATED:20260128T220346Z
LAST-MODIFIED:20260128T220346Z
UID:10002565-1787216400-1787227200@newlifetucson.com
SUMMARY:KSP (Knot-Sew-Perfect)
DESCRIPTION:Knot Sew Perfect invites you to serve with your hands and heart. Whether you’re experienced or brand new\, there’s a place for you in this warm and welcoming community. Help tie quilts for local ministries or jump into other meaningful projects. Join us on the 1st and 3rd Thursdays of each month\, 9am–12pm in Room 7. Please enter through the double doors on the EAST side of the New Life building. Got questions? Email Theresa Thomas at tmthomas2009@aol.com.
URL:https://newlifetucson.com/events/ksp3rd/2026-08-20/
LOCATION:New Life Bible Fellowship\, 4900 W Cortaro Farms Road\, Tucson\, AZ\, 85742\, United States
ATTACH;FMTTYPE=image/jpeg:https://newlifetucson.com/wp-content/uploads/2025/01/KSP-SOCIALS.jpg
ORGANIZER;CN="New Life Bible Fellowship":MAILTO:info@newlifetucson.com
END:VEVENT
BEGIN:VEVENT
DTSTART;TZID=America/Phoenix:20260917T090000
DTEND;TZID=America/Phoenix:20260917T120000
DTSTAMP:20260423T085044
CREATED:20260128T220346Z
LAST-MODIFIED:20260128T220346Z
UID:10002566-1789635600-1789646400@newlifetucson.com
SUMMARY:KSP (Knot-Sew-Perfect)
DESCRIPTION:Knot Sew Perfect invites you to serve with your hands and heart. Whether you’re experienced or brand new\, there’s a place for you in this warm and welcoming community. Help tie quilts for local ministries or jump into other meaningful projects. Join us on the 1st and 3rd Thursdays of each month\, 9am–12pm in Room 7. Please enter through the double doors on the EAST side of the New Life building. Got questions? Email Theresa Thomas at tmthomas2009@aol.com.
URL:https://newlifetucson.com/events/ksp3rd/2026-09-17/
LOCATION:New Life Bible Fellowship\, 4900 W Cortaro Farms Road\, Tucson\, AZ\, 85742\, United States
ATTACH;FMTTYPE=image/jpeg:https://newlifetucson.com/wp-content/uploads/2025/01/KSP-SOCIALS.jpg
ORGANIZER;CN="New Life Bible Fellowship":MAILTO:info@newlifetucson.com
END:VEVENT
BEGIN:VEVENT
DTSTART;TZID=America/Phoenix:20261015T090000
DTEND;TZID=America/Phoenix:20261015T120000
DTSTAMP:20260423T085044
CREATED:20260128T220346Z
LAST-MODIFIED:20260128T220346Z
UID:10002567-1792054800-1792065600@newlifetucson.com
SUMMARY:KSP (Knot-Sew-Perfect)
DESCRIPTION:Knot Sew Perfect invites you to serve with your hands and heart. Whether you’re experienced or brand new\, there’s a place for you in this warm and welcoming community. Help tie quilts for local ministries or jump into other meaningful projects. Join us on the 1st and 3rd Thursdays of each month\, 9am–12pm in Room 7. Please enter through the double doors on the EAST side of the New Life building. Got questions? Email Theresa Thomas at tmthomas2009@aol.com.
URL:https://newlifetucson.com/events/ksp3rd/2026-10-15/
LOCATION:New Life Bible Fellowship\, 4900 W Cortaro Farms Road\, Tucson\, AZ\, 85742\, United States
ATTACH;FMTTYPE=image/jpeg:https://newlifetucson.com/wp-content/uploads/2025/01/KSP-SOCIALS.jpg
ORGANIZER;CN="New Life Bible Fellowship":MAILTO:info@newlifetucson.com
END:VEVENT
BEGIN:VEVENT
DTSTART;TZID=America/Phoenix:20261119T090000
DTEND;TZID=America/Phoenix:20261119T120000
DTSTAMP:20260423T085044
CREATED:20260128T220346Z
LAST-MODIFIED:20260128T220346Z
UID:10002568-1795078800-1795089600@newlifetucson.com
SUMMARY:KSP (Knot-Sew-Perfect)
DESCRIPTION:Knot Sew Perfect invites you to serve with your hands and heart. Whether you’re experienced or brand new\, there’s a place for you in this warm and welcoming community. Help tie quilts for local ministries or jump into other meaningful projects. Join us on the 1st and 3rd Thursdays of each month\, 9am–12pm in Room 7. Please enter through the double doors on the EAST side of the New Life building. Got questions? Email Theresa Thomas at tmthomas2009@aol.com.
URL:https://newlifetucson.com/events/ksp3rd/2026-11-19/
LOCATION:New Life Bible Fellowship\, 4900 W Cortaro Farms Road\, Tucson\, AZ\, 85742\, United States
ATTACH;FMTTYPE=image/jpeg:https://newlifetucson.com/wp-content/uploads/2025/01/KSP-SOCIALS.jpg
ORGANIZER;CN="New Life Bible Fellowship":MAILTO:info@newlifetucson.com
END:VEVENT
END:VCALENDAR