BEGIN:VCALENDAR
VERSION:2.0
PRODID:-//New Life Bible Fellowship - ECPv6.15.20//NONSGML v1.0//EN
CALSCALE:GREGORIAN
METHOD:PUBLISH
X-WR-CALNAME:New Life Bible Fellowship
X-ORIGINAL-URL:https://newlifetucson.com
X-WR-CALDESC:Events for New Life Bible Fellowship
REFRESH-INTERVAL;VALUE=DURATION:PT1H
X-Robots-Tag:noindex
X-PUBLISHED-TTL:PT1H
BEGIN:VTIMEZONE
TZID:America/Phoenix
BEGIN:STANDARD
TZOFFSETFROM:-0700
TZOFFSETTO:-0700
TZNAME:MST
DTSTART:20250101T000000
END:STANDARD
END:VTIMEZONE
BEGIN:VEVENT
DTSTART;TZID=America/Phoenix:20261219T073000
DTEND;TZID=America/Phoenix:20261219T090000
DTSTAMP:20260424T004138
CREATED:20260117T055109Z
LAST-MODIFIED:20260122T003850Z
UID:10002517-1797665400-1797670800@newlifetucson.com
SUMMARY:Anchored Men's Breakfast
DESCRIPTION:If you’re a father\, a husband\, a brother\, or a son looking for a place of fellowship\, acceptance\, or encouragement\, then you are welcome here! Guys\, we need each other more than we realize. Let’s stop sticking to what’s comfortable\, familiar\, and quiet – instead\, let’s break bread together and explore life outside the lines! Life is better together. We meet every 3rd Saturday at 7:30 a.m. here at New Life.
URL:https://newlifetucson.com/events/anchored-mens-breakfast-2/2026-12-19/
LOCATION:AZ
CATEGORIES:adults,community,men
ATTACH;FMTTYPE=image/jpeg:https://newlifetucson.com/wp-content/uploads/2025/10/Anchored-Mens-Group-SOCIAL-copy.jpg
END:VEVENT
BEGIN:VEVENT
DTSTART;TZID=America/Phoenix:20270107T100000
DTEND;TZID=America/Phoenix:20270108T120000
DTSTAMP:20260424T004138
CREATED:20260325T203558Z
LAST-MODIFIED:20260325T203558Z
UID:10002590-1799316000-1799409600@newlifetucson.com
SUMMARY:Senior Adults Game Day
DESCRIPTION:Senior Adult Game Time – 1st Thurs of Month: game day 10-noon. Classroom 9-10
URL:https://newlifetucson.com/events/senior-adults-game-day/2027-01-07/
LOCATION:New Life Bible Fellowship\, 4900 W Cortaro Farms Road\, Tucson\, AZ\, 85742\, United States
CATEGORIES:community,seniors
ATTACH;FMTTYPE=image/jpeg:https://newlifetucson.com/wp-content/uploads/2026/03/Senior-Adults-Game-Day-SOCIALS.jpg
ORGANIZER;CN="New Life Bible Fellowship":MAILTO:info@newlifetucson.com
END:VEVENT
BEGIN:VEVENT
DTSTART;TZID=America/Phoenix:20270116T073000
DTEND;TZID=America/Phoenix:20270116T090000
DTSTAMP:20260424T004138
CREATED:20260117T055109Z
LAST-MODIFIED:20260122T003850Z
UID:10002518-1800084600-1800090000@newlifetucson.com
SUMMARY:Anchored Men's Breakfast
DESCRIPTION:If you’re a father\, a husband\, a brother\, or a son looking for a place of fellowship\, acceptance\, or encouragement\, then you are welcome here! Guys\, we need each other more than we realize. Let’s stop sticking to what’s comfortable\, familiar\, and quiet – instead\, let’s break bread together and explore life outside the lines! Life is better together. We meet every 3rd Saturday at 7:30 a.m. here at New Life.
URL:https://newlifetucson.com/events/anchored-mens-breakfast-2/2027-01-16/
LOCATION:AZ
CATEGORIES:adults,community,men
ATTACH;FMTTYPE=image/jpeg:https://newlifetucson.com/wp-content/uploads/2025/10/Anchored-Mens-Group-SOCIAL-copy.jpg
END:VEVENT
BEGIN:VEVENT
DTSTART;TZID=America/Phoenix:20270204T100000
DTEND;TZID=America/Phoenix:20270205T120000
DTSTAMP:20260424T004138
CREATED:20260325T203558Z
LAST-MODIFIED:20260325T203558Z
UID:10002591-1801735200-1801828800@newlifetucson.com
SUMMARY:Senior Adults Game Day
DESCRIPTION:Senior Adult Game Time – 1st Thurs of Month: game day 10-noon. Classroom 9-10
URL:https://newlifetucson.com/events/senior-adults-game-day/2027-02-04/
LOCATION:New Life Bible Fellowship\, 4900 W Cortaro Farms Road\, Tucson\, AZ\, 85742\, United States
CATEGORIES:community,seniors
ATTACH;FMTTYPE=image/jpeg:https://newlifetucson.com/wp-content/uploads/2026/03/Senior-Adults-Game-Day-SOCIALS.jpg
ORGANIZER;CN="New Life Bible Fellowship":MAILTO:info@newlifetucson.com
END:VEVENT
BEGIN:VEVENT
DTSTART;TZID=America/Phoenix:20270220T073000
DTEND;TZID=America/Phoenix:20270220T090000
DTSTAMP:20260424T004138
CREATED:20260117T055109Z
LAST-MODIFIED:20260122T003850Z
UID:10002519-1803108600-1803114000@newlifetucson.com
SUMMARY:Anchored Men's Breakfast
DESCRIPTION:If you’re a father\, a husband\, a brother\, or a son looking for a place of fellowship\, acceptance\, or encouragement\, then you are welcome here! Guys\, we need each other more than we realize. Let’s stop sticking to what’s comfortable\, familiar\, and quiet – instead\, let’s break bread together and explore life outside the lines! Life is better together. We meet every 3rd Saturday at 7:30 a.m. here at New Life.
URL:https://newlifetucson.com/events/anchored-mens-breakfast-2/2027-02-20/
LOCATION:AZ
CATEGORIES:adults,community,men
ATTACH;FMTTYPE=image/jpeg:https://newlifetucson.com/wp-content/uploads/2025/10/Anchored-Mens-Group-SOCIAL-copy.jpg
END:VEVENT
BEGIN:VEVENT
DTSTART;TZID=America/Phoenix:20270304T100000
DTEND;TZID=America/Phoenix:20270305T120000
DTSTAMP:20260424T004138
CREATED:20260325T203558Z
LAST-MODIFIED:20260325T203558Z
UID:10002592-1804154400-1804248000@newlifetucson.com
SUMMARY:Senior Adults Game Day
DESCRIPTION:Senior Adult Game Time – 1st Thurs of Month: game day 10-noon. Classroom 9-10
URL:https://newlifetucson.com/events/senior-adults-game-day/2027-03-04/
LOCATION:New Life Bible Fellowship\, 4900 W Cortaro Farms Road\, Tucson\, AZ\, 85742\, United States
CATEGORIES:community,seniors
ATTACH;FMTTYPE=image/jpeg:https://newlifetucson.com/wp-content/uploads/2026/03/Senior-Adults-Game-Day-SOCIALS.jpg
ORGANIZER;CN="New Life Bible Fellowship":MAILTO:info@newlifetucson.com
END:VEVENT
BEGIN:VEVENT
DTSTART;TZID=America/Phoenix:20270320T073000
DTEND;TZID=America/Phoenix:20270320T090000
DTSTAMP:20260424T004138
CREATED:20260117T055109Z
LAST-MODIFIED:20260122T003850Z
UID:10002520-1805527800-1805533200@newlifetucson.com
SUMMARY:Anchored Men's Breakfast
DESCRIPTION:If you’re a father\, a husband\, a brother\, or a son looking for a place of fellowship\, acceptance\, or encouragement\, then you are welcome here! Guys\, we need each other more than we realize. Let’s stop sticking to what’s comfortable\, familiar\, and quiet – instead\, let’s break bread together and explore life outside the lines! Life is better together. We meet every 3rd Saturday at 7:30 a.m. here at New Life.
URL:https://newlifetucson.com/events/anchored-mens-breakfast-2/2027-03-20/
LOCATION:AZ
CATEGORIES:adults,community,men
ATTACH;FMTTYPE=image/jpeg:https://newlifetucson.com/wp-content/uploads/2025/10/Anchored-Mens-Group-SOCIAL-copy.jpg
END:VEVENT
BEGIN:VEVENT
DTSTART;TZID=America/Phoenix:20270401T100000
DTEND;TZID=America/Phoenix:20270402T120000
DTSTAMP:20260424T004138
CREATED:20260325T203558Z
LAST-MODIFIED:20260325T203558Z
UID:10002593-1806573600-1806667200@newlifetucson.com
SUMMARY:Senior Adults Game Day
DESCRIPTION:Senior Adult Game Time – 1st Thurs of Month: game day 10-noon. Classroom 9-10
URL:https://newlifetucson.com/events/senior-adults-game-day/2027-04-01/
LOCATION:New Life Bible Fellowship\, 4900 W Cortaro Farms Road\, Tucson\, AZ\, 85742\, United States
CATEGORIES:community,seniors
ATTACH;FMTTYPE=image/jpeg:https://newlifetucson.com/wp-content/uploads/2026/03/Senior-Adults-Game-Day-SOCIALS.jpg
ORGANIZER;CN="New Life Bible Fellowship":MAILTO:info@newlifetucson.com
END:VEVENT
BEGIN:VEVENT
DTSTART;TZID=America/Phoenix:20270417T073000
DTEND;TZID=America/Phoenix:20270417T090000
DTSTAMP:20260424T004138
CREATED:20260117T055109Z
LAST-MODIFIED:20260122T003850Z
UID:10002521-1807947000-1807952400@newlifetucson.com
SUMMARY:Anchored Men's Breakfast
DESCRIPTION:If you’re a father\, a husband\, a brother\, or a son looking for a place of fellowship\, acceptance\, or encouragement\, then you are welcome here! Guys\, we need each other more than we realize. Let’s stop sticking to what’s comfortable\, familiar\, and quiet – instead\, let’s break bread together and explore life outside the lines! Life is better together. We meet every 3rd Saturday at 7:30 a.m. here at New Life.
URL:https://newlifetucson.com/events/anchored-mens-breakfast-2/2027-04-17/
LOCATION:AZ
CATEGORIES:adults,community,men
ATTACH;FMTTYPE=image/jpeg:https://newlifetucson.com/wp-content/uploads/2025/10/Anchored-Mens-Group-SOCIAL-copy.jpg
END:VEVENT
BEGIN:VEVENT
DTSTART;TZID=America/Phoenix:20270506T100000
DTEND;TZID=America/Phoenix:20270507T120000
DTSTAMP:20260424T004138
CREATED:20260325T203558Z
LAST-MODIFIED:20260325T203558Z
UID:10002594-1809597600-1809691200@newlifetucson.com
SUMMARY:Senior Adults Game Day
DESCRIPTION:Senior Adult Game Time – 1st Thurs of Month: game day 10-noon. Classroom 9-10
URL:https://newlifetucson.com/events/senior-adults-game-day/2027-05-06/
LOCATION:New Life Bible Fellowship\, 4900 W Cortaro Farms Road\, Tucson\, AZ\, 85742\, United States
CATEGORIES:community,seniors
ATTACH;FMTTYPE=image/jpeg:https://newlifetucson.com/wp-content/uploads/2026/03/Senior-Adults-Game-Day-SOCIALS.jpg
ORGANIZER;CN="New Life Bible Fellowship":MAILTO:info@newlifetucson.com
END:VEVENT
BEGIN:VEVENT
DTSTART;TZID=America/Phoenix:20270515T073000
DTEND;TZID=America/Phoenix:20270515T090000
DTSTAMP:20260424T004138
CREATED:20260117T055109Z
LAST-MODIFIED:20260122T003850Z
UID:10002522-1810366200-1810371600@newlifetucson.com
SUMMARY:Anchored Men's Breakfast
DESCRIPTION:If you’re a father\, a husband\, a brother\, or a son looking for a place of fellowship\, acceptance\, or encouragement\, then you are welcome here! Guys\, we need each other more than we realize. Let’s stop sticking to what’s comfortable\, familiar\, and quiet – instead\, let’s break bread together and explore life outside the lines! Life is better together. We meet every 3rd Saturday at 7:30 a.m. here at New Life.
URL:https://newlifetucson.com/events/anchored-mens-breakfast-2/2027-05-15/
LOCATION:AZ
CATEGORIES:adults,community,men
ATTACH;FMTTYPE=image/jpeg:https://newlifetucson.com/wp-content/uploads/2025/10/Anchored-Mens-Group-SOCIAL-copy.jpg
END:VEVENT
BEGIN:VEVENT
DTSTART;TZID=America/Phoenix:20270603T100000
DTEND;TZID=America/Phoenix:20270604T120000
DTSTAMP:20260424T004138
CREATED:20260325T203558Z
LAST-MODIFIED:20260325T203558Z
UID:10002595-1812016800-1812110400@newlifetucson.com
SUMMARY:Senior Adults Game Day
DESCRIPTION:Senior Adult Game Time – 1st Thurs of Month: game day 10-noon. Classroom 9-10
URL:https://newlifetucson.com/events/senior-adults-game-day/2027-06-03/
LOCATION:New Life Bible Fellowship\, 4900 W Cortaro Farms Road\, Tucson\, AZ\, 85742\, United States
CATEGORIES:community,seniors
ATTACH;FMTTYPE=image/jpeg:https://newlifetucson.com/wp-content/uploads/2026/03/Senior-Adults-Game-Day-SOCIALS.jpg
ORGANIZER;CN="New Life Bible Fellowship":MAILTO:info@newlifetucson.com
END:VEVENT
BEGIN:VEVENT
DTSTART;TZID=America/Phoenix:20270619T073000
DTEND;TZID=America/Phoenix:20270619T090000
DTSTAMP:20260424T004138
CREATED:20260117T055109Z
LAST-MODIFIED:20260122T003850Z
UID:10002523-1813390200-1813395600@newlifetucson.com
SUMMARY:Anchored Men's Breakfast
DESCRIPTION:If you’re a father\, a husband\, a brother\, or a son looking for a place of fellowship\, acceptance\, or encouragement\, then you are welcome here! Guys\, we need each other more than we realize. Let’s stop sticking to what’s comfortable\, familiar\, and quiet – instead\, let’s break bread together and explore life outside the lines! Life is better together. We meet every 3rd Saturday at 7:30 a.m. here at New Life.
URL:https://newlifetucson.com/events/anchored-mens-breakfast-2/2027-06-19/
LOCATION:AZ
CATEGORIES:adults,community,men
ATTACH;FMTTYPE=image/jpeg:https://newlifetucson.com/wp-content/uploads/2025/10/Anchored-Mens-Group-SOCIAL-copy.jpg
END:VEVENT
BEGIN:VEVENT
DTSTART;TZID=America/Phoenix:20270701T100000
DTEND;TZID=America/Phoenix:20270702T120000
DTSTAMP:20260424T004138
CREATED:20260325T203558Z
LAST-MODIFIED:20260325T203558Z
UID:10002596-1814436000-1814529600@newlifetucson.com
SUMMARY:Senior Adults Game Day
DESCRIPTION:Senior Adult Game Time – 1st Thurs of Month: game day 10-noon. Classroom 9-10
URL:https://newlifetucson.com/events/senior-adults-game-day/2027-07-01/
LOCATION:New Life Bible Fellowship\, 4900 W Cortaro Farms Road\, Tucson\, AZ\, 85742\, United States
CATEGORIES:community,seniors
ATTACH;FMTTYPE=image/jpeg:https://newlifetucson.com/wp-content/uploads/2026/03/Senior-Adults-Game-Day-SOCIALS.jpg
ORGANIZER;CN="New Life Bible Fellowship":MAILTO:info@newlifetucson.com
END:VEVENT
BEGIN:VEVENT
DTSTART;TZID=America/Phoenix:20270717T073000
DTEND;TZID=America/Phoenix:20270717T090000
DTSTAMP:20260424T004138
CREATED:20260117T055109Z
LAST-MODIFIED:20260122T003850Z
UID:10002524-1815809400-1815814800@newlifetucson.com
SUMMARY:Anchored Men's Breakfast
DESCRIPTION:If you’re a father\, a husband\, a brother\, or a son looking for a place of fellowship\, acceptance\, or encouragement\, then you are welcome here! Guys\, we need each other more than we realize. Let’s stop sticking to what’s comfortable\, familiar\, and quiet – instead\, let’s break bread together and explore life outside the lines! Life is better together. We meet every 3rd Saturday at 7:30 a.m. here at New Life.
URL:https://newlifetucson.com/events/anchored-mens-breakfast-2/2027-07-17/
LOCATION:AZ
CATEGORIES:adults,community,men
ATTACH;FMTTYPE=image/jpeg:https://newlifetucson.com/wp-content/uploads/2025/10/Anchored-Mens-Group-SOCIAL-copy.jpg
END:VEVENT
BEGIN:VEVENT
DTSTART;TZID=America/Phoenix:20270805T100000
DTEND;TZID=America/Phoenix:20270806T120000
DTSTAMP:20260424T004138
CREATED:20260325T203558Z
LAST-MODIFIED:20260325T203558Z
UID:10002597-1817460000-1817553600@newlifetucson.com
SUMMARY:Senior Adults Game Day
DESCRIPTION:Senior Adult Game Time – 1st Thurs of Month: game day 10-noon. Classroom 9-10
URL:https://newlifetucson.com/events/senior-adults-game-day/2027-08-05/
LOCATION:New Life Bible Fellowship\, 4900 W Cortaro Farms Road\, Tucson\, AZ\, 85742\, United States
CATEGORIES:community,seniors
ATTACH;FMTTYPE=image/jpeg:https://newlifetucson.com/wp-content/uploads/2026/03/Senior-Adults-Game-Day-SOCIALS.jpg
ORGANIZER;CN="New Life Bible Fellowship":MAILTO:info@newlifetucson.com
END:VEVENT
BEGIN:VEVENT
DTSTART;TZID=America/Phoenix:20270821T073000
DTEND;TZID=America/Phoenix:20270821T090000
DTSTAMP:20260424T004138
CREATED:20260117T055109Z
LAST-MODIFIED:20260122T003850Z
UID:10002525-1818833400-1818838800@newlifetucson.com
SUMMARY:Anchored Men's Breakfast
DESCRIPTION:If you’re a father\, a husband\, a brother\, or a son looking for a place of fellowship\, acceptance\, or encouragement\, then you are welcome here! Guys\, we need each other more than we realize. Let’s stop sticking to what’s comfortable\, familiar\, and quiet – instead\, let’s break bread together and explore life outside the lines! Life is better together. We meet every 3rd Saturday at 7:30 a.m. here at New Life.
URL:https://newlifetucson.com/events/anchored-mens-breakfast-2/2027-08-21/
LOCATION:AZ
CATEGORIES:adults,community,men
ATTACH;FMTTYPE=image/jpeg:https://newlifetucson.com/wp-content/uploads/2025/10/Anchored-Mens-Group-SOCIAL-copy.jpg
END:VEVENT
BEGIN:VEVENT
DTSTART;TZID=America/Phoenix:20270902T100000
DTEND;TZID=America/Phoenix:20270903T120000
DTSTAMP:20260424T004138
CREATED:20260325T203558Z
LAST-MODIFIED:20260325T203558Z
UID:10002598-1819879200-1819972800@newlifetucson.com
SUMMARY:Senior Adults Game Day
DESCRIPTION:Senior Adult Game Time – 1st Thurs of Month: game day 10-noon. Classroom 9-10
URL:https://newlifetucson.com/events/senior-adults-game-day/2027-09-02/
LOCATION:New Life Bible Fellowship\, 4900 W Cortaro Farms Road\, Tucson\, AZ\, 85742\, United States
CATEGORIES:community,seniors
ATTACH;FMTTYPE=image/jpeg:https://newlifetucson.com/wp-content/uploads/2026/03/Senior-Adults-Game-Day-SOCIALS.jpg
ORGANIZER;CN="New Life Bible Fellowship":MAILTO:info@newlifetucson.com
END:VEVENT
BEGIN:VEVENT
DTSTART;TZID=America/Phoenix:20270918T073000
DTEND;TZID=America/Phoenix:20270918T090000
DTSTAMP:20260424T004138
CREATED:20260117T055109Z
LAST-MODIFIED:20260122T003850Z
UID:10002526-1821252600-1821258000@newlifetucson.com
SUMMARY:Anchored Men's Breakfast
DESCRIPTION:If you’re a father\, a husband\, a brother\, or a son looking for a place of fellowship\, acceptance\, or encouragement\, then you are welcome here! Guys\, we need each other more than we realize. Let’s stop sticking to what’s comfortable\, familiar\, and quiet – instead\, let’s break bread together and explore life outside the lines! Life is better together. We meet every 3rd Saturday at 7:30 a.m. here at New Life.
URL:https://newlifetucson.com/events/anchored-mens-breakfast-2/2027-09-18/
LOCATION:AZ
CATEGORIES:adults,community,men
ATTACH;FMTTYPE=image/jpeg:https://newlifetucson.com/wp-content/uploads/2025/10/Anchored-Mens-Group-SOCIAL-copy.jpg
END:VEVENT
BEGIN:VEVENT
DTSTART;TZID=America/Phoenix:20271007T100000
DTEND;TZID=America/Phoenix:20271008T120000
DTSTAMP:20260424T004138
CREATED:20260325T203558Z
LAST-MODIFIED:20260325T203558Z
UID:10002599-1822903200-1822996800@newlifetucson.com
SUMMARY:Senior Adults Game Day
DESCRIPTION:Senior Adult Game Time – 1st Thurs of Month: game day 10-noon. Classroom 9-10
URL:https://newlifetucson.com/events/senior-adults-game-day/2027-10-07/
LOCATION:New Life Bible Fellowship\, 4900 W Cortaro Farms Road\, Tucson\, AZ\, 85742\, United States
CATEGORIES:community,seniors
ATTACH;FMTTYPE=image/jpeg:https://newlifetucson.com/wp-content/uploads/2026/03/Senior-Adults-Game-Day-SOCIALS.jpg
ORGANIZER;CN="New Life Bible Fellowship":MAILTO:info@newlifetucson.com
END:VEVENT
BEGIN:VEVENT
DTSTART;TZID=America/Phoenix:20271016T073000
DTEND;TZID=America/Phoenix:20271016T090000
DTSTAMP:20260424T004138
CREATED:20260117T055109Z
LAST-MODIFIED:20260122T003850Z
UID:10002527-1823671800-1823677200@newlifetucson.com
SUMMARY:Anchored Men's Breakfast
DESCRIPTION:If you’re a father\, a husband\, a brother\, or a son looking for a place of fellowship\, acceptance\, or encouragement\, then you are welcome here! Guys\, we need each other more than we realize. Let’s stop sticking to what’s comfortable\, familiar\, and quiet – instead\, let’s break bread together and explore life outside the lines! Life is better together. We meet every 3rd Saturday at 7:30 a.m. here at New Life.
URL:https://newlifetucson.com/events/anchored-mens-breakfast-2/2027-10-16/
LOCATION:AZ
CATEGORIES:adults,community,men
ATTACH;FMTTYPE=image/jpeg:https://newlifetucson.com/wp-content/uploads/2025/10/Anchored-Mens-Group-SOCIAL-copy.jpg
END:VEVENT
BEGIN:VEVENT
DTSTART;TZID=America/Phoenix:20271104T100000
DTEND;TZID=America/Phoenix:20271105T120000
DTSTAMP:20260424T004139
CREATED:20260325T203558Z
LAST-MODIFIED:20260325T203558Z
UID:10002600-1825322400-1825416000@newlifetucson.com
SUMMARY:Senior Adults Game Day
DESCRIPTION:Senior Adult Game Time – 1st Thurs of Month: game day 10-noon. Classroom 9-10
URL:https://newlifetucson.com/events/senior-adults-game-day/2027-11-04/
LOCATION:New Life Bible Fellowship\, 4900 W Cortaro Farms Road\, Tucson\, AZ\, 85742\, United States
CATEGORIES:community,seniors
ATTACH;FMTTYPE=image/jpeg:https://newlifetucson.com/wp-content/uploads/2026/03/Senior-Adults-Game-Day-SOCIALS.jpg
ORGANIZER;CN="New Life Bible Fellowship":MAILTO:info@newlifetucson.com
END:VEVENT
BEGIN:VEVENT
DTSTART;TZID=America/Phoenix:20271202T100000
DTEND;TZID=America/Phoenix:20271203T120000
DTSTAMP:20260424T004139
CREATED:20260325T203558Z
LAST-MODIFIED:20260325T203558Z
UID:10002601-1827741600-1827835200@newlifetucson.com
SUMMARY:Senior Adults Game Day
DESCRIPTION:Senior Adult Game Time – 1st Thurs of Month: game day 10-noon. Classroom 9-10
URL:https://newlifetucson.com/events/senior-adults-game-day/2027-12-02/
LOCATION:New Life Bible Fellowship\, 4900 W Cortaro Farms Road\, Tucson\, AZ\, 85742\, United States
CATEGORIES:community,seniors
ATTACH;FMTTYPE=image/jpeg:https://newlifetucson.com/wp-content/uploads/2026/03/Senior-Adults-Game-Day-SOCIALS.jpg
ORGANIZER;CN="New Life Bible Fellowship":MAILTO:info@newlifetucson.com
END:VEVENT
END:VCALENDAR