BEGIN:VCALENDAR
VERSION:2.0
PRODID:-//New Life Bible Fellowship - ECPv6.15.20//NONSGML v1.0//EN
CALSCALE:GREGORIAN
METHOD:PUBLISH
X-ORIGINAL-URL:https://newlifetucson.com
X-WR-CALDESC:Events for New Life Bible Fellowship
REFRESH-INTERVAL;VALUE=DURATION:PT1H
X-Robots-Tag:noindex
X-PUBLISHED-TTL:PT1H
BEGIN:VTIMEZONE
TZID:America/Phoenix
BEGIN:STANDARD
TZOFFSETFROM:-0700
TZOFFSETTO:-0700
TZNAME:MST
DTSTART:20250101T000000
END:STANDARD
END:VTIMEZONE
BEGIN:VEVENT
DTSTART;TZID=America/Phoenix:20260120T090000
DTEND;TZID=America/Phoenix:20260120T113000
DTSTAMP:20260423T170142
CREATED:20260117T055143Z
LAST-MODIFIED:20260117T055143Z
UID:10002463-1768899600-1768908600@newlifetucson.com
SUMMARY:The Nest @MomsMatter
DESCRIPTION:The Nest @MomsMatter is a ministry for moms of young children (pregnancy through pre-school). The purpose of this ministry is to provide a comfortable place for moms to come and experience authentic relationships and be encouraged by fellow moms. Our desire is for every mom to feel seen and known for who they are\, not for being “just a mom.” Our meetings include a hot breakfast\, speakers sharing various topics that are relevant\, meaningful\, and fun\, an occasional craft/service project to bless those in need in our community\, and\, most importantly\, plenty of time to have adult conversations with fellow moms. \nThe Nest @MomsMatter Spring 2026 Semester. \nMake plans to join us on the 1st and 3rd Tuesday mornings this Winter/Spring\, beginning January 20. We will meet from 9am until 11:30am. Childcare will be offered \nRegister for The Nest @MomsMatter
URL:https://newlifetucson.com/events/the-nest-momsmatter-9/
LOCATION:AZ
CATEGORIES:churchwide,community,parents,women
END:VEVENT
BEGIN:VEVENT
DTSTART;TZID=America/Phoenix:20260121T180000
DTEND;TZID=America/Phoenix:20260121T193000
DTSTAMP:20260423T170142
CREATED:20260117T055137Z
LAST-MODIFIED:20260120T213523Z
UID:10002462-1769018400-1769023800@newlifetucson.com
SUMMARY:Unwrapped
DESCRIPTION:Become a contributor at New Life by attending UNWRAPPED\, a workshop designed to help you uncover your God-given spiritual gifts\, abilities\, and life experiences. You’ll learn how God has uniquely shaped you to serve Him and others—and how you can make a difference both at our main campus and at the new church campus. As part of this journey\, you’ll receive training to begin serving at the current campus and gain experience and confidence. You’ll also have the opportunity to meet ministry leaders\, ask questions\, and explore where your gifts can be used to make the greatest impact\, to be equipped to step into meaningful service that fits how God created you. UNWRAPPED will take place on Wednesday\, January 21st\, from 6:00–7:30pm in Room 7. Childcare is available. Sign up by following the link below or by visiting the First Step table on Sunday morning.
URL:https://newlifetucson.com/events/unwrapped/
LOCATION:AZ
CATEGORIES:adults,churchwide,community
END:VEVENT
BEGIN:VEVENT
DTSTART;TZID=America/Phoenix:20260122T100000
DTEND;TZID=America/Phoenix:20260122T120000
DTSTAMP:20260423T170142
CREATED:20260117T055119Z
LAST-MODIFIED:20260117T055119Z
UID:10002457-1769076000-1769083200@newlifetucson.com
SUMMARY:Senior Adult Bible Study
DESCRIPTION:Senior Adult Bible Study – 2nd &4th Thurs of Month: Bible study at 10 (ends 11:30-noon). Classroom 9-10
URL:https://newlifetucson.com/events/senior-adult-bible-study-2/
LOCATION:AZ
CATEGORIES:adults,churchwide,community,seniors
END:VEVENT
BEGIN:VEVENT
DTSTART;TZID=America/Phoenix:20260123T180000
DTEND;TZID=America/Phoenix:20260123T203000
DTSTAMP:20260423T170142
CREATED:20260105T233817Z
LAST-MODIFIED:20260117T055053Z
UID:10001914-1769191200-1769200200@newlifetucson.com
SUMMARY:inFORMED Women's Event
DESCRIPTION:inFORMED is an evening that invites women into a deeper understanding of spiritual formation: \nWhere faith is shaped through practice\, presence\, and relationship\, not just information alone.\nWe’ll reflect on how Christ-centered practices form us over a lifetime into the way of Jesus\, \noffering rest instead of striving and grace instead of perfection.\nCome for an unhurried evening of teaching\, reflection\, and connection.
URL:https://newlifetucson.com/events/informed2026/
LOCATION:New Life Bible Fellowship\, 4900 W Cortaro Farms Road\, Tucson\, AZ\, 85742\, United States
CATEGORIES:adults,churchwide,community,women
ATTACH;FMTTYPE=image/jpeg:https://newlifetucson.com/wp-content/uploads/2026/01/6.jpg
END:VEVENT
END:VCALENDAR